BEGIN:VCALENDAR
VERSION:2.0
PRODID:icalendar-ruby
CALSCALE:GREGORIAN
BEGIN:VTIMEZONE
TZID:America/New_York
BEGIN:DAYLIGHT
DTSTART:20260308T030000
TZOFFSETFROM:-0500
TZOFFSETTO:-0400
RRULE:FREQ=YEARLY;BYDAY=2SU;BYMONTH=3
TZNAME:EDT
END:DAYLIGHT
BEGIN:STANDARD
DTSTART:20261101T010000
TZOFFSETFROM:-0400
TZOFFSETTO:-0500
RRULE:FREQ=YEARLY;BYDAY=1SU;BYMONTH=11
TZNAME:EST
END:STANDARD
END:VTIMEZONE
BEGIN:VEVENT
DTSTAMP:20260423T145232Z
UID:b18f1aec-ffa4-412d-bd65-61212612fc8d
DTSTART;VALUE=DATE:20260401
DTEND;VALUE=DATE:20260501
DESCRIPTION:
LOCATION:
SUMMARY:Sikh Heritage Month
END:VEVENT
BEGIN:VEVENT
DTSTAMP:20260423T145232Z
UID:1aa72ce1-4045-48a7-b61e-e5ae7a0bc843
DTSTART;VALUE=DATE:20260401
DTEND;VALUE=DATE:20260501
DESCRIPTION:
LOCATION:
SUMMARY:Wellness Work theme- Gratitude
END:VEVENT
BEGIN:VEVENT
DTSTAMP:20260423T145232Z
UID:4da61ca7-3c8b-468c-9f0c-fd6b000ee6d3
DTSTART;VALUE=DATE:20260424
DTEND;VALUE=DATE:20260425
DESCRIPTION:
LOCATION:
SUMMARY:PD DAY-TJRC CLOSED
END:VEVENT
BEGIN:VEVENT
DTSTAMP:20260423T145232Z
UID:aa409ca7-170c-4372-b4e3-58b751a53592
DTSTART;VALUE=DATE:20260430
DTEND;VALUE=DATE:20260501
DESCRIPTION:
LOCATION:
SUMMARY:Journey to Freedom Day
END:VEVENT
BEGIN:VEVENT
DTSTAMP:20260423T145232Z
UID:e90ea771-40cc-46f0-a8a6-0f9845355b1a
DTSTART;VALUE=DATE:20260501
DTEND;VALUE=DATE:20260601
DESCRIPTION:
LOCATION:
SUMMARY:Asian Heritage Month
END:VEVENT
BEGIN:VEVENT
DTSTAMP:20260423T145232Z
UID:fcda69d3-6c7b-4889-aa84-e58bab2bba89
DTSTART;VALUE=DATE:20260501
DTEND;VALUE=DATE:20260601
DESCRIPTION:
LOCATION:
SUMMARY:Jewish Heritage Month
END:VEVENT
BEGIN:VEVENT
DTSTAMP:20260423T145232Z
UID:78c64faa-9150-4bac-88b8-df43b13262a0
DTSTART;VALUE=DATE:20260501
DTEND;VALUE=DATE:20260601
DESCRIPTION:
LOCATION:
SUMMARY:Polish Heritage Month
END:VEVENT
BEGIN:VEVENT
DTSTAMP:20260423T145232Z
UID:1c37e3f4-e17d-4c4d-a3b7-435b4c6d6015
DTSTART;VALUE=DATE:20260501
DTEND;VALUE=DATE:20260601
DESCRIPTION:
LOCATION:
SUMMARY:Speech & Hearing Month
END:VEVENT
BEGIN:VEVENT
DTSTAMP:20260423T145232Z
UID:dba24668-2bb1-4316-9463-ccc3bf70b716
DTSTART;VALUE=DATE:20260504
DTEND;VALUE=DATE:20260510
DESCRIPTION:
LOCATION:
SUMMARY:Mental Health Week
END:VEVENT
BEGIN:VEVENT
DTSTAMP:20260423T145232Z
UID:3ca27328-8a3f-4f9d-aeba-d5b3d00dad77
DTSTART;VALUE=DATE:20260505
DTEND;VALUE=DATE:20260506
DESCRIPTION:
LOCATION:
SUMMARY:Cinco De Mayo
END:VEVENT
BEGIN:VEVENT
DTSTAMP:20260423T145232Z
UID:558f167f-1909-493e-9b20-6383a357e903
DTSTART;VALUE=DATE:20260505
DTEND;VALUE=DATE:20260506
DESCRIPTION:
LOCATION:
SUMMARY:Dutch Heritage Day
END:VEVENT
BEGIN:VEVENT
DTSTAMP:20260423T145232Z
UID:0e086051-4b2d-4daa-b11e-16f81b086924
DTSTART;VALUE=DATE:20260505
DTEND;VALUE=DATE:20260511
DESCRIPTION:
LOCATION:
SUMMARY:Education Week
END:VEVENT
BEGIN:VEVENT
DTSTAMP:20260423T145232Z
UID:76e7f2cb-016c-4598-ac91-96c3fb591bcd
DTSTART;VALUE=DATE:20260505
DTEND;VALUE=DATE:20260506
DESCRIPTION:
LOCATION:
SUMMARY:Red Dress Awareness MMWIG2S+
END:VEVENT
BEGIN:VEVENT
DTSTAMP:20260423T145232Z
UID:bf26fca5-381a-472c-bcac-d619e2c3a256
DTSTART;VALUE=DATE:20260510
DTEND;VALUE=DATE:20260511
DESCRIPTION:
LOCATION:
SUMMARY:Mother's Day
END:VEVENT
BEGIN:VEVENT
DTSTAMP:20260423T145232Z
UID:5ad07abb-4ff8-4dd0-a1f0-78974882c84e
DTSTART;VALUE=DATE:20260517
DTEND;VALUE=DATE:20260518
DESCRIPTION:
LOCATION:
SUMMARY:International Day Against Homophobia\, Transphobia\, and Biphobia
END:VEVENT
BEGIN:VEVENT
DTSTAMP:20260423T145232Z
UID:c11a258d-9139-4f2e-bf6e-54991827ab4c
DTSTART;VALUE=DATE:20260518
DTEND;VALUE=DATE:20260519
DESCRIPTION:
LOCATION:
SUMMARY:Victoria Day-TJRC Closed
END:VEVENT
BEGIN:VEVENT
DTSTAMP:20260423T145232Z
UID:6c24a063-bd28-4af2-8785-2d9f78af32b0
DTSTART;VALUE=DATE:20260531
DTEND;VALUE=DATE:20260607
DESCRIPTION:
LOCATION:
SUMMARY:National Accessibility Week
END:VEVENT
END:VCALENDAR
