BEGIN:VCALENDAR
VERSION:2.0
PRODID:icalendar-ruby
CALSCALE:GREGORIAN
BEGIN:VTIMEZONE
TZID:America/Denver
BEGIN:DAYLIGHT
DTSTART:20260308T030000
TZOFFSETFROM:-0700
TZOFFSETTO:-0600
RRULE:FREQ=YEARLY;BYDAY=2SU;BYMONTH=3
TZNAME:MDT
END:DAYLIGHT
BEGIN:STANDARD
DTSTART:20261101T010000
TZOFFSETFROM:-0600
TZOFFSETTO:-0700
RRULE:FREQ=YEARLY;BYDAY=1SU;BYMONTH=11
TZNAME:MST
END:STANDARD
END:VTIMEZONE
BEGIN:VEVENT
DTSTAMP:20260421T084846Z
UID:afc336de-be47-4938-9245-145e387aef1b
DTSTART;VALUE=DATE:20260422
DTEND;VALUE=DATE:20260423
DESCRIPTION:
LOCATION:
SUMMARY:Earth Day
END:VEVENT
BEGIN:VEVENT
DTSTAMP:20260421T084846Z
UID:efad297f-9c4d-4213-bb5d-a287b9cfe6ad
DTSTART;VALUE=DATE:20260422
DTEND;VALUE=DATE:20260423
DESCRIPTION:
LOCATION:
SUMMARY:Hot Lunch - Papa John's Pizza
END:VEVENT
BEGIN:VEVENT
DTSTAMP:20260421T084846Z
UID:e63270aa-b3c4-41ea-aace-6237c157f4ca
DTSTART;VALUE=DATE:20260422
DTEND;VALUE=DATE:20260423
DESCRIPTION:
LOCATION:
SUMMARY:Kindergarten Day
END:VEVENT
BEGIN:VEVENT
DTSTAMP:20260421T084846Z
UID:bc0ebee6-c01d-493f-8f16-fed13d54b529
DTSTART;VALUE=DATE:20260424
DTEND;VALUE=DATE:20260425
DESCRIPTION:
LOCATION:
SUMMARY:Kindergarten Day
END:VEVENT
BEGIN:VEVENT
DTSTAMP:20260421T084846Z
UID:e6c99faf-20ba-41cf-be9b-122453c6ff57
DTSTART;VALUE=DATE:20260427
DTEND;VALUE=DATE:20260428
DESCRIPTION:
LOCATION:
SUMMARY:Kindergarten Day
END:VEVENT
BEGIN:VEVENT
DTSTAMP:20260421T084846Z
UID:fad5cc2f-f14b-4d9c-8f23-d7e01027db7f
DTSTART;VALUE=DATE:20260428
DTEND;VALUE=DATE:20260429
DESCRIPTION:
LOCATION:
SUMMARY:Hot Lunch - Hot Dogs
END:VEVENT
BEGIN:VEVENT
DTSTAMP:20260421T084846Z
UID:ae4b393e-67f3-4eec-a172-bea888500caa
DTSTART;VALUE=DATE:20260429
DTEND;VALUE=DATE:20260430
DESCRIPTION:
LOCATION:
SUMMARY:Hot Lunch - Boston Pizza
END:VEVENT
BEGIN:VEVENT
DTSTAMP:20260421T084846Z
UID:3e41a4ee-f129-4441-8974-cc8764704ea0
DTSTART;VALUE=DATE:20260429
DTEND;VALUE=DATE:20260430
DESCRIPTION:
LOCATION:
SUMMARY:Kindergarten Day
END:VEVENT
BEGIN:VEVENT
DTSTAMP:20260421T084846Z
UID:68fa7cf8-a051-40e0-8a8a-b054762ae7ae
DTSTART;VALUE=DATE:20260501
DTEND;VALUE=DATE:20260502
DESCRIPTION:
LOCATION:
SUMMARY:School Administrators Appreciation Month
END:VEVENT
BEGIN:VEVENT
DTSTAMP:20260421T084846Z
UID:b5a02a6d-abd0-4d1f-ba25-ce2ee38b6348
DTSTART;VALUE=DATE:20260501
DTEND;VALUE=DATE:20260502
DESCRIPTION:
LOCATION:
SUMMARY:School Administrators Appreciation Month
END:VEVENT
BEGIN:VEVENT
DTSTAMP:20260421T084846Z
UID:333ca11b-be38-42bb-80c2-de65119c1b89
DTSTART;VALUE=DATE:20260504
DTEND;VALUE=DATE:20260505
DESCRIPTION:
LOCATION:
SUMMARY:Kindergarten Day
END:VEVENT
BEGIN:VEVENT
DTSTAMP:20260421T084846Z
UID:b5c6c658-8eee-47f8-b75b-273fc8cb525d
DTSTART;VALUE=DATE:20260504
DTEND;VALUE=DATE:20260508
DESCRIPTION:
LOCATION:
SUMMARY:Scholastic Book Fair 2026
END:VEVENT
BEGIN:VEVENT
DTSTAMP:20260421T084846Z
UID:4817903a-723a-4a2d-9207-918bb1f52280
DTSTART;VALUE=DATE:20260505
DTEND;VALUE=DATE:20260512
DESCRIPTION:
LOCATION:
SUMMARY:Mental Health Awareness Week
END:VEVENT
BEGIN:VEVENT
DTSTAMP:20260421T084846Z
UID:79105f4e-6839-4a34-a2ba-9bee9c098eb0
DTSTART;VALUE=DATE:20260506
DTEND;VALUE=DATE:20260507
DESCRIPTION:
LOCATION:
SUMMARY:Kindergarten Day
END:VEVENT
BEGIN:VEVENT
DTSTAMP:20260421T084846Z
UID:2929d699-6460-4ea6-be7c-0114f20b3e4d
DTSTART;VALUE=DATE:20260508
DTEND;VALUE=DATE:20260509
DESCRIPTION:
LOCATION:
SUMMARY:Kindergarten Day
END:VEVENT
BEGIN:VEVENT
DTSTAMP:20260421T084846Z
UID:c25418dd-9307-4dbd-8623-00d5bb546fa2
DTSTART:20260508T111500
DTEND:20260508T120000
DESCRIPTION:
LOCATION:
SUMMARY:Mother's Day Tea Party - Gr
END:VEVENT
BEGIN:VEVENT
DTSTAMP:20260421T084846Z
UID:475a3683-63f9-428f-9f7f-76b9aa6babb3
DTSTART;VALUE=DATE:20260511
DTEND;VALUE=DATE:20260512
DESCRIPTION:
LOCATION:
SUMMARY:Kindergarten Day
END:VEVENT
BEGIN:VEVENT
DTSTAMP:20260421T084846Z
UID:70c55e74-105a-4a11-b125-46f7395742f6
DTSTART;VALUE=DATE:20260513
DTEND;VALUE=DATE:20260514
DESCRIPTION:
LOCATION:
SUMMARY:Kindergarten Day
END:VEVENT
BEGIN:VEVENT
DTSTAMP:20260421T084846Z
UID:b05b76f1-9434-4e79-ae10-7ddda1e127fc
DTSTART;VALUE=DATE:20260515
DTEND;VALUE=DATE:20260516
DESCRIPTION:
LOCATION:
SUMMARY:Non-Operational Day 
END:VEVENT
BEGIN:VEVENT
DTSTAMP:20260421T084846Z
UID:690062f3-3aad-4a14-b53e-bc24cde16497
DTSTART;VALUE=DATE:20260518
DTEND;VALUE=DATE:20260519
DESCRIPTION:
LOCATION:
SUMMARY:Stat Holiday
END:VEVENT
BEGIN:VEVENT
DTSTAMP:20260421T084846Z
UID:283ea816-25d9-45f8-b1a1-9177266da716
DTSTART;VALUE=DATE:20260520
DTEND;VALUE=DATE:20260521
DESCRIPTION:
LOCATION:
SUMMARY:Kindergarten Day
END:VEVENT
BEGIN:VEVENT
DTSTAMP:20260421T084846Z
UID:78982c1c-41e7-4ee7-8228-708698c7c1ac
DTSTART;VALUE=DATE:20260521
DTEND;VALUE=DATE:20260522
DESCRIPTION:
LOCATION:
SUMMARY:PAT Grade 9 - ELA Part A 
END:VEVENT
BEGIN:VEVENT
DTSTAMP:20260421T084846Z
UID:d2f3c8b9-7ec3-41f6-9c81-828442eec520
DTSTART;VALUE=DATE:20260522
DTEND;VALUE=DATE:20260523
DESCRIPTION:
LOCATION:
SUMMARY:PAT Grade 6 - ELA Part A
END:VEVENT
BEGIN:VEVENT
DTSTAMP:20260421T084846Z
UID:8e2db123-b3dc-4f67-846e-eaca5457a8ea
DTSTART;VALUE=DATE:20260525
DTEND;VALUE=DATE:20260526
DESCRIPTION:
LOCATION:
SUMMARY:Kindergarten Day
END:VEVENT
BEGIN:VEVENT
DTSTAMP:20260421T084846Z
UID:56b4133a-32b6-4210-9be5-66106beb221c
DTSTART;VALUE=DATE:20260527
DTEND;VALUE=DATE:20260528
DESCRIPTION:
LOCATION:
SUMMARY:Kindergarten Day
END:VEVENT
BEGIN:VEVENT
DTSTAMP:20260421T084846Z
UID:0b8de24f-b16c-4179-a5db-6f426eddb2fd
DTSTART;VALUE=DATE:20260528
DTEND;VALUE=DATE:20260529
DESCRIPTION:
LOCATION:
SUMMARY:DETM - Duchess Elementary Track Meet
END:VEVENT
BEGIN:VEVENT
DTSTAMP:20260421T084846Z
UID:3830d13e-d7ca-47ef-8027-eb627e7601c8
DTSTART;VALUE=DATE:20260601
DTEND;VALUE=DATE:20260602
DESCRIPTION:
LOCATION:
SUMMARY:Kindergarten Day
END:VEVENT
BEGIN:VEVENT
DTSTAMP:20260421T084846Z
UID:20380777-a946-45a3-aa63-bd94edb72c01
DTSTART;VALUE=DATE:20260603
DTEND;VALUE=DATE:20260604
DESCRIPTION:
LOCATION:
SUMMARY:Kindergarten Day
END:VEVENT
BEGIN:VEVENT
DTSTAMP:20260421T084846Z
UID:d9373eb4-955a-4a94-a3c2-ee8eac21fc0f
DTSTART;VALUE=DATE:20260604
DTEND;VALUE=DATE:20260605
DESCRIPTION:
LOCATION:
SUMMARY:PAT Grade 6 - ELA Part B
END:VEVENT
BEGIN:VEVENT
DTSTAMP:20260421T084846Z
UID:e7334b05-d7ed-4711-9d80-a945f595cd31
DTSTART;VALUE=DATE:20260605
DTEND;VALUE=DATE:20260606
DESCRIPTION:
LOCATION:
SUMMARY:Kindergarten Day
END:VEVENT
BEGIN:VEVENT
DTSTAMP:20260421T084846Z
UID:b30c1107-85f2-44c7-8c26-944d1343c5e5
DTSTART;VALUE=DATE:20260608
DTEND;VALUE=DATE:20260609
DESCRIPTION:
LOCATION:
SUMMARY:Kindergarten Day
END:VEVENT
BEGIN:VEVENT
DTSTAMP:20260421T084846Z
UID:0ec938f1-9ea0-42fe-a853-1446732b639e
DTSTART;VALUE=DATE:20260609
DTEND;VALUE=DATE:20260610
DESCRIPTION:
LOCATION:
SUMMARY:PAT Grade 9 - ELA Part B
END:VEVENT
BEGIN:VEVENT
DTSTAMP:20260421T084846Z
UID:195df80d-acee-42f1-82ea-e182473912f5
DTSTART;VALUE=DATE:20260610
DTEND;VALUE=DATE:20260611
DESCRIPTION:
LOCATION:
SUMMARY:Kindergarten Day
END:VEVENT
BEGIN:VEVENT
DTSTAMP:20260421T084846Z
UID:2ef8a124-5a1a-43db-ac99-5db60216f1c5
DTSTART:20260610T090000
DTEND:20260610T120000
DESCRIPTION:
LOCATION:
SUMMARY:ELA 30 - Part A - Diploma - DRAFT
END:VEVENT
BEGIN:VEVENT
DTSTAMP:20260421T084846Z
UID:f60fa0c3-ba6a-465a-a57b-05eee47bae01
DTSTART;VALUE=DATE:20260611
DTEND;VALUE=DATE:20260612
DESCRIPTION:
LOCATION:
SUMMARY:PAT Grade 6 - Social Studies
END:VEVENT
BEGIN:VEVENT
DTSTAMP:20260421T084846Z
UID:7300f430-d2ff-4d8f-a8e3-7afd35341a57
DTSTART:20260611T090000
DTEND:20260611T120000
DESCRIPTION:
LOCATION:
SUMMARY:Social 30 - Part A - Diploma - DRAFT
END:VEVENT
BEGIN:VEVENT
DTSTAMP:20260421T084846Z
UID:966b2453-e89a-4c88-a788-ca2ff1d476dc
DTSTART;VALUE=DATE:20260612
DTEND;VALUE=DATE:20260613
DESCRIPTION:
LOCATION:
SUMMARY:PAT Grade 6 - Science
END:VEVENT
BEGIN:VEVENT
DTSTAMP:20260421T084846Z
UID:7073ee9a-1267-47b1-983e-a26f3a62d098
DTSTART:20260612T090000
DTEND:20260612T140000
DESCRIPTION:
LOCATION:
SUMMARY:Math 30 - Diploma -1 & -2
END:VEVENT
BEGIN:VEVENT
DTSTAMP:20260421T084846Z
UID:a15c67bf-7390-4487-b43a-656858954478
DTSTART:20260613T123000
DTEND:20260613T140000
DESCRIPTION:
LOCATION:
SUMMARY:Graduation Commencement Ceremony 
END:VEVENT
BEGIN:VEVENT
DTSTAMP:20260421T084846Z
UID:7a387b93-a463-47ee-8b37-de2bb624dda1
DTSTART;VALUE=DATE:20260615
DTEND;VALUE=DATE:20260616
DESCRIPTION:
LOCATION:
SUMMARY:Kindergarten Day
END:VEVENT
BEGIN:VEVENT
DTSTAMP:20260421T084846Z
UID:3933dc0b-9311-4f03-9124-15e4e4bf66d1
DTSTART;VALUE=DATE:20260615
DTEND;VALUE=DATE:20260616
DESCRIPTION:
LOCATION:
SUMMARY:PAT Grade 6 - Mathematics Part A
END:VEVENT
BEGIN:VEVENT
DTSTAMP:20260421T084846Z
UID:bec354e8-f0e1-4b62-84e0-249ea6af091a
DTSTART:20260615T090000
DTEND:20260615T120000
DESCRIPTION:
LOCATION:
SUMMARY:ELA 30 - Part B - Diploma - DRAFT
END:VEVENT
BEGIN:VEVENT
DTSTAMP:20260421T084846Z
UID:eaaa3fb6-5805-46fb-9f67-4a365e4d1a68
DTSTART;VALUE=DATE:20260616
DTEND;VALUE=DATE:20260617
DESCRIPTION:
LOCATION:
SUMMARY:PAT Grade 9 - Mathematics Part A
END:VEVENT
BEGIN:VEVENT
DTSTAMP:20260421T084846Z
UID:f9c04a09-d04b-483c-9ddf-6d60deb32e42
DTSTART:20260616T090000
DTEND:20260616T120000
DESCRIPTION:
LOCATION:
SUMMARY:Social 30 - Part B - Diploma - DRAFT
END:VEVENT
BEGIN:VEVENT
DTSTAMP:20260421T084846Z
UID:ce455560-4a8f-4d9a-986f-23b2b3c7ef4b
DTSTART;VALUE=DATE:20260617
DTEND;VALUE=DATE:20260618
DESCRIPTION:
LOCATION:
SUMMARY:Kindergarten Day
END:VEVENT
BEGIN:VEVENT
DTSTAMP:20260421T084846Z
UID:6bcd4872-fa1d-434e-aac4-f3802a4b94cd
DTSTART;VALUE=DATE:20260618
DTEND;VALUE=DATE:20260619
DESCRIPTION:
LOCATION:
SUMMARY:PAT Grade 6 - Mathematics Part B
END:VEVENT
BEGIN:VEVENT
DTSTAMP:20260421T084846Z
UID:12f0b00e-f6ee-4606-882e-bbfcc8f6ac08
DTSTART:20260618T090000
DTEND:20260618T120000
DESCRIPTION:
LOCATION:
SUMMARY:Biology 30 - Diploma - DRAFT
END:VEVENT
BEGIN:VEVENT
DTSTAMP:20260421T084846Z
UID:0920e4df-4281-41d7-9f13-30773cba1784
DTSTART;VALUE=DATE:20260619
DTEND;VALUE=DATE:20260620
DESCRIPTION:
LOCATION:
SUMMARY:Kindergarten Day
END:VEVENT
BEGIN:VEVENT
DTSTAMP:20260421T084846Z
UID:1d1e17b7-9260-4ca8-b141-a36866ba2476
DTSTART;VALUE=DATE:20260619
DTEND;VALUE=DATE:20260620
DESCRIPTION:
LOCATION:
SUMMARY:PAT Grade 9 - Mathematics Part B
END:VEVENT
BEGIN:VEVENT
DTSTAMP:20260421T084846Z
UID:9977e498-eb25-43a6-9010-31bfc3165990
DTSTART:20260619T090000
DTEND:20260619T120000
DESCRIPTION:
LOCATION:
SUMMARY:Chemistry 30 - Diploma - DRAFT
END:VEVENT
BEGIN:VEVENT
DTSTAMP:20260421T084846Z
UID:3a8becfb-e6e5-4519-9ace-7c9b57fdb93b
DTSTART;VALUE=DATE:20260622
DTEND;VALUE=DATE:20260623
DESCRIPTION:
LOCATION:
SUMMARY:Kindergarten Day
END:VEVENT
BEGIN:VEVENT
DTSTAMP:20260421T084846Z
UID:ac56585d-2f02-4dc1-bb62-b3d0daebc2bd
DTSTART;VALUE=DATE:20260622
DTEND;VALUE=DATE:20260623
DESCRIPTION:
LOCATION:
SUMMARY:PAT Grade 9 - Social Studies
END:VEVENT
BEGIN:VEVENT
DTSTAMP:20260421T084846Z
UID:646a5d78-b949-4915-b8d6-89801deff380
DTSTART:20260622T090000
DTEND:20260622T120000
DESCRIPTION:
LOCATION:
SUMMARY:Physics 30 - Diploma - DRAFT
END:VEVENT
BEGIN:VEVENT
DTSTAMP:20260421T084846Z
UID:516aa4fc-8b6d-430d-b0eb-495f8b336268
DTSTART;VALUE=DATE:20260623
DTEND;VALUE=DATE:20260624
DESCRIPTION:
LOCATION:
SUMMARY:PAT Grade 9 - Science
END:VEVENT
END:VCALENDAR
