BEGIN:VCALENDAR
VERSION:2.0
PRODID:icalendar-ruby
CALSCALE:GREGORIAN
BEGIN:VTIMEZONE
TZID:America/New_York
BEGIN:DAYLIGHT
DTSTART:20260308T030000
TZOFFSETFROM:-0500
TZOFFSETTO:-0400
RRULE:FREQ=YEARLY;BYDAY=2SU;BYMONTH=3
TZNAME:EDT
END:DAYLIGHT
BEGIN:STANDARD
DTSTART:20261101T010000
TZOFFSETFROM:-0400
TZOFFSETTO:-0500
RRULE:FREQ=YEARLY;BYDAY=1SU;BYMONTH=11
TZNAME:EST
END:STANDARD
END:VTIMEZONE
BEGIN:VEVENT
DTSTAMP:20260424T062158Z
UID:6656b37d-1b6b-4f0c-b051-926ab616071f
DTSTART:20260424T080000
DTEND:20260424T090000
DESCRIPTION:
LOCATION:
SUMMARY:PA Day
END:VEVENT
BEGIN:VEVENT
DTSTAMP:20260424T062158Z
UID:0b5ac2a0-b295-49aa-8868-25a0a5ed0f6d
DTSTART:20260503T080000
DTEND:20260508T090000
DESCRIPTION:
LOCATION:
SUMMARY:Education Week - May 3rd - 8th
END:VEVENT
BEGIN:VEVENT
DTSTAMP:20260424T062158Z
UID:09f22beb-905e-48e6-8a3b-e1e5ad7e9bfd
DTSTART:20260507T080000
DTEND:20260507T090000
DESCRIPTION:
LOCATION:
SUMMARY:Immunization Clinic\, Grade 7
END:VEVENT
BEGIN:VEVENT
DTSTAMP:20260424T062158Z
UID:7bc0d6b6-e4c4-4ec5-825c-15491e25bdfa
DTSTART:20260518T080000
DTEND:20260518T090000
DESCRIPTION:
LOCATION:
SUMMARY:Victoria Day
END:VEVENT
BEGIN:VEVENT
DTSTAMP:20260424T062158Z
UID:c7b190cb-59b6-4fc4-b3f8-115a42a47f77
DTSTART:20260519T080000
DTEND:20260519T090000
DESCRIPTION:
LOCATION:
SUMMARY:Wonderland Trip Grade 7
END:VEVENT
BEGIN:VEVENT
DTSTAMP:20260424T062158Z
UID:d6fdee64-ab5b-4a61-a346-898f12867ae6
DTSTART:20260519T190000
DTEND:20260519T210000
DESCRIPTION:
LOCATION:
SUMMARY:School Council Meeting - 7:00 pm in the Library
END:VEVENT
BEGIN:VEVENT
DTSTAMP:20260424T062158Z
UID:489738f0-2db8-43e7-a198-1750c859c00b
DTSTART:20260521T080000
DTEND:20260521T090000
DESCRIPTION:
LOCATION:
SUMMARY:Gradebook Reports Gr. 9 - 12
END:VEVENT
BEGIN:VEVENT
DTSTAMP:20260424T062158Z
UID:6d157ebc-e05e-41e9-9a59-c9fdc92db67c
DTSTART:20260605T080000
DTEND:20260605T090000
DESCRIPTION:
LOCATION:
SUMMARY:PA Day
END:VEVENT
BEGIN:VEVENT
DTSTAMP:20260424T062158Z
UID:e3806ee4-7aad-4f5b-8e51-1ea7b646d655
DTSTART:20260615T080000
DTEND:20260617T090000
DESCRIPTION:
LOCATION:
SUMMARY:EQAO Math Assessment - Gr. 9 - June 15 - 17
END:VEVENT
BEGIN:VEVENT
DTSTAMP:20260424T062158Z
UID:9b522733-70b3-46c6-a4cb-e505f8fc53bb
DTSTART:20260618T080000
DTEND:20260618T090000
DESCRIPTION:
LOCATION:
SUMMARY:Last Day of Classes for Gr. 9 - 12
END:VEVENT
BEGIN:VEVENT
DTSTAMP:20260424T062158Z
UID:ec4bdc16-de07-4fd1-b2d2-ceaf7bd8a245
DTSTART:20260619T080000
DTEND:20260625T090000
DESCRIPTION:
LOCATION:
SUMMARY:Evaluation Days for Gr. 9 - 12 - June 19 - 25
END:VEVENT
BEGIN:VEVENT
DTSTAMP:20260424T062158Z
UID:795c9354-9143-4791-bb59-06b5829575d4
DTSTART:20260621T080000
DTEND:20260621T090000
DESCRIPTION:
LOCATION:
SUMMARY:National Indigenous Day Peoples' Day
END:VEVENT
BEGIN:VEVENT
DTSTAMP:20260424T062158Z
UID:5772cd76-3d13-4741-a5fc-da435a5b2168
DTSTART:20260624T080000
DTEND:20260624T090000
DESCRIPTION:
LOCATION:
SUMMARY:Grade 8 Graduation
END:VEVENT
BEGIN:VEVENT
DTSTAMP:20260424T062158Z
UID:31da5bab-da12-4639-aa54-41250ef9b41d
DTSTART:20260625T080000
DTEND:20260625T090000
DESCRIPTION:
LOCATION:
SUMMARY:Final Report Cards for Gr. 7 & 8
END:VEVENT
BEGIN:VEVENT
DTSTAMP:20260424T062158Z
UID:35967492-3f57-4eca-8012-897b47e5c242
DTSTART:20260625T080000
DTEND:20260625T090000
DESCRIPTION:
LOCATION:
SUMMARY:Grade 12 Commencement
END:VEVENT
BEGIN:VEVENT
DTSTAMP:20260424T062158Z
UID:13606156-a056-4be3-ab5a-13b8ecd538ce
DTSTART:20260626T080000
DTEND:20260626T090000
DESCRIPTION:
LOCATION:
SUMMARY:PA Day
END:VEVENT
END:VCALENDAR
