BEGIN:VCALENDAR
VERSION:2.0
PRODID:icalendar-ruby
CALSCALE:GREGORIAN
BEGIN:VTIMEZONE
TZID:America/New_York
BEGIN:DAYLIGHT
DTSTART:20260308T030000
TZOFFSETFROM:-0500
TZOFFSETTO:-0400
RRULE:FREQ=YEARLY;BYDAY=2SU;BYMONTH=3
TZNAME:EDT
END:DAYLIGHT
BEGIN:STANDARD
DTSTART:20261101T010000
TZOFFSETFROM:-0400
TZOFFSETTO:-0500
RRULE:FREQ=YEARLY;BYDAY=1SU;BYMONTH=11
TZNAME:EST
END:STANDARD
END:VTIMEZONE
BEGIN:VEVENT
DTSTAMP:20260422T135611Z
UID:939157f4-430f-40f2-ab5e-26f13259374a
DTSTART;VALUE=DATE:20260424
DTEND;VALUE=DATE:20260425
DESCRIPTION:
LOCATION:
SUMMARY:PD Day
END:VEVENT
BEGIN:VEVENT
DTSTAMP:20260422T135611Z
UID:b4d1174d-a6fe-42c5-9a63-c9054cc9a734
DTSTART;VALUE=DATE:20260427
DTEND;VALUE=DATE:20260428
DESCRIPTION:
LOCATION:
SUMMARY:Midterm Marks Going Home this Week
END:VEVENT
BEGIN:VEVENT
DTSTAMP:20260422T135611Z
UID:ac7db3de-704c-4ca4-863a-76463e4cd1f7
DTSTART;VALUE=DATE:20260518
DTEND;VALUE=DATE:20260519
DESCRIPTION:
LOCATION:
SUMMARY:Victoria Day
END:VEVENT
BEGIN:VEVENT
DTSTAMP:20260422T135611Z
UID:163e5042-8a63-47ed-a3ca-21553de2b5a9
DTSTART;VALUE=DATE:20260529
DTEND;VALUE=DATE:20260530
DESCRIPTION:
LOCATION:
SUMMARY:Relay For Life
END:VEVENT
BEGIN:VEVENT
DTSTAMP:20260422T135611Z
UID:57b0f9db-f45a-4848-b8b4-b0704f517da8
DTSTART;VALUE=DATE:20260605
DTEND;VALUE=DATE:20260606
DESCRIPTION:
LOCATION:
SUMMARY:PD Day
END:VEVENT
BEGIN:VEVENT
DTSTAMP:20260422T135611Z
UID:732d99df-4056-4ef1-84f3-c3de32bbb129
DTSTART;VALUE=DATE:20260619
DTEND;VALUE=DATE:20260620
DESCRIPTION:
LOCATION:
SUMMARY:Evaluation Day Period A
END:VEVENT
BEGIN:VEVENT
DTSTAMP:20260422T135611Z
UID:54e2fdda-aaaf-4396-a6be-4d7b2f7066f2
DTSTART;VALUE=DATE:20260622
DTEND;VALUE=DATE:20260623
DESCRIPTION:
LOCATION:
SUMMARY:Evaluation Day Period B
END:VEVENT
BEGIN:VEVENT
DTSTAMP:20260422T135611Z
UID:5fc16e41-b67c-431e-ae64-1f36233856a4
DTSTART;VALUE=DATE:20260623
DTEND;VALUE=DATE:20260624
DESCRIPTION:
LOCATION:
SUMMARY:Evaluation Day Period C
END:VEVENT
BEGIN:VEVENT
DTSTAMP:20260422T135611Z
UID:1cd0a9ec-ef54-48eb-a599-214a1b0aa707
DTSTART;VALUE=DATE:20260624
DTEND;VALUE=DATE:20260625
DESCRIPTION:
LOCATION:
SUMMARY:Evaluation Day Period C
END:VEVENT
BEGIN:VEVENT
DTSTAMP:20260422T135611Z
UID:ecd8e1c1-ade9-49d8-b50e-d50038e5a660
DTSTART;VALUE=DATE:20260625
DTEND;VALUE=DATE:20260626
DESCRIPTION:
LOCATION:
SUMMARY:Evaluation Day Inclement Weather Make Up Day
END:VEVENT
BEGIN:VEVENT
DTSTAMP:20260422T135611Z
UID:64244cae-1432-4f81-8076-cffc1d41145d
DTSTART:20260625T190000
DTEND:20260625T210000
DESCRIPTION:
LOCATION:
SUMMARY:Graduation
END:VEVENT
BEGIN:VEVENT
DTSTAMP:20260422T135611Z
UID:25c8d4c7-6338-4682-9108-ac947259edbc
DTSTART;VALUE=DATE:20260626
DTEND;VALUE=DATE:20260627
DESCRIPTION:
LOCATION:
SUMMARY:PD Day
END:VEVENT
END:VCALENDAR
