BEGIN:VCALENDAR
VERSION:2.0
PRODID:icalendar-ruby
CALSCALE:GREGORIAN
BEGIN:VTIMEZONE
TZID:America/New_York
BEGIN:DAYLIGHT
DTSTART:20260308T030000
TZOFFSETFROM:-0500
TZOFFSETTO:-0400
RRULE:FREQ=YEARLY;BYDAY=2SU;BYMONTH=3
TZNAME:EDT
END:DAYLIGHT
BEGIN:STANDARD
DTSTART:20261101T010000
TZOFFSETFROM:-0400
TZOFFSETTO:-0500
RRULE:FREQ=YEARLY;BYDAY=1SU;BYMONTH=11
TZNAME:EST
END:STANDARD
END:VTIMEZONE
BEGIN:VEVENT
DTSTAMP:20260421T125211Z
UID:d813b899-34a5-4f8c-8be2-4bfc13978978
DTSTART;VALUE=DATE:20260424
DTEND;VALUE=DATE:20260425
DESCRIPTION:
LOCATION:
SUMMARY:P.A. Day
END:VEVENT
BEGIN:VEVENT
DTSTAMP:20260421T125211Z
UID:b14809d5-ee12-4646-861a-44570f5ab4ef
DTSTART;VALUE=DATE:20260605
DTEND;VALUE=DATE:20260606
DESCRIPTION:
LOCATION:
SUMMARY:P.A. Day
END:VEVENT
BEGIN:VEVENT
DTSTAMP:20260421T125211Z
UID:53d5228c-6ce0-4426-bcd6-e68775f58b25
DTSTART;VALUE=DATE:20260626
DTEND;VALUE=DATE:20260627
DESCRIPTION:
LOCATION:
SUMMARY:P.A. Day
END:VEVENT
BEGIN:VEVENT
DTSTAMP:20260421T125211Z
UID:6a88882a-2c15-42d9-931e-c6faa1821e0f
DTSTART:20260901T090000
DTEND:20260901T170000
DESCRIPTION:
LOCATION:
SUMMARY:L.K.C.S. Registration Day
END:VEVENT
BEGIN:VEVENT
DTSTAMP:20260421T125211Z
UID:31a9f062-b5b7-4fc6-ab6e-8f419e37754d
DTSTART:20260901T100000
DTEND:20260901T120000
DESCRIPTION:<p>Lambton-Kent Composite School</p>
LOCATION:
SUMMARY:L.K.C.S. Gr. 9 Orientation
END:VEVENT
END:VCALENDAR
