BEGIN:VCALENDAR
VERSION:2.0
PRODID:icalendar-ruby
CALSCALE:GREGORIAN
BEGIN:VTIMEZONE
TZID:America/New_York
BEGIN:DAYLIGHT
DTSTART:20260308T030000
TZOFFSETFROM:-0500
TZOFFSETTO:-0400
RRULE:FREQ=YEARLY;BYDAY=2SU;BYMONTH=3
TZNAME:EDT
END:DAYLIGHT
BEGIN:STANDARD
DTSTART:20261101T010000
TZOFFSETFROM:-0400
TZOFFSETTO:-0500
RRULE:FREQ=YEARLY;BYDAY=1SU;BYMONTH=11
TZNAME:EST
END:STANDARD
END:VTIMEZONE
BEGIN:VEVENT
DTSTAMP:20260423T060908Z
UID:9463b57b-cf2a-4417-b8b6-909a3467508e
DTSTART;VALUE=DATE:20260424
DTEND;VALUE=DATE:20260425
DESCRIPTION:
LOCATION:
SUMMARY:PD Day
END:VEVENT
BEGIN:VEVENT
DTSTAMP:20260423T060908Z
UID:0c4e3653-67fc-4216-b47d-b85362c95938
DTSTART;VALUE=DATE:20260504
DTEND;VALUE=DATE:20260505
DESCRIPTION:
LOCATION:
SUMMARY:Mid-Term Reports sent home
END:VEVENT
BEGIN:VEVENT
DTSTAMP:20260423T060908Z
UID:f2d8ce87-2313-4827-b02b-e8781e1c0f7a
DTSTART;VALUE=DATE:20260511
DTEND;VALUE=DATE:20260512
DESCRIPTION:<p>The Ministry of Education has a policy of full disclosure. T
 his policy states that all grade 11 and 12 courses attempted by students m
 ust be recorded on Ontario Student Transcripts. &nbsp\;After the full disc
 losure deadline\, any Grade 11 or 12 course completed\, withdrawn from or 
 failed will appear on a student transcript along with the marks earned in 
 the program.</p><p>Full disclosure will apply once a student has completed
  60% of the course content\, as determined by the instructor and the Open 
 School office.</p><p>This means senior students (grade 11 or 12) have unti
 l that point to withdraw from a course without it showing on their transcr
 ipt.&nbsp\;</p>
LOCATION:
SUMMARY:Full disclosure for Semester 2 Courses
END:VEVENT
BEGIN:VEVENT
DTSTAMP:20260423T060908Z
UID:fa32b208-a633-4c0c-8b66-469fe73017d7
DTSTART;VALUE=DATE:20260518
DTEND;VALUE=DATE:20260519
DESCRIPTION:
LOCATION:
SUMMARY:Board Holiday - Victoria Day
END:VEVENT
BEGIN:VEVENT
DTSTAMP:20260423T060908Z
UID:9bf54818-c5dd-4fd8-8785-9eba4983bf38
DTSTART;VALUE=DATE:20260605
DTEND;VALUE=DATE:20260606
DESCRIPTION:
LOCATION:
SUMMARY:PD Day
END:VEVENT
BEGIN:VEVENT
DTSTAMP:20260423T060908Z
UID:34613972-0079-4218-a63b-d109811a4ff3
DTSTART:20260611T190000
DTEND:20260611T210000
DESCRIPTION:
LOCATION:Progressive Auto Sales Arena - Invitation with details to follow
SUMMARY:Graduation - Class of 2026
END:VEVENT
BEGIN:VEVENT
DTSTAMP:20260423T060908Z
UID:28926dd9-5c64-4609-9009-f9633f4d2d5c
DTSTART:20260619T083000
DTEND:20260619T120000
DESCRIPTION:
LOCATION:
SUMMARY:Semester 2 Period A Exam
END:VEVENT
BEGIN:VEVENT
DTSTAMP:20260423T060908Z
UID:ddd78510-edba-46cc-9cbb-51bfb010c3a4
DTSTART:20260622T083000
DTEND:20260622T120000
DESCRIPTION:
LOCATION:
SUMMARY:Semester 2 Period B Exam
END:VEVENT
BEGIN:VEVENT
DTSTAMP:20260423T060908Z
UID:0a5ab867-7f3e-49f9-8da6-b27d80fb7121
DTSTART:20260623T083000
DTEND:20260623T120000
DESCRIPTION:
LOCATION:
SUMMARY:Semester 2 Period C Exam
END:VEVENT
BEGIN:VEVENT
DTSTAMP:20260423T060908Z
UID:dc6d1a94-71c7-46de-8fc4-847fccafd995
DTSTART:20260624T083000
DTEND:20260624T120000
DESCRIPTION:
LOCATION:
SUMMARY:Semester 2 Period D Exam
END:VEVENT
BEGIN:VEVENT
DTSTAMP:20260423T060908Z
UID:48997b7c-d558-448a-a873-977b1844d5b5
DTSTART;VALUE=DATE:20260626
DTEND;VALUE=DATE:20260627
DESCRIPTION:
LOCATION:
SUMMARY:PD Day
END:VEVENT
END:VCALENDAR
