BEGIN:VCALENDAR
VERSION:2.0
PRODID:icalendar-ruby
CALSCALE:GREGORIAN
BEGIN:VTIMEZONE
TZID:America/New_York
BEGIN:DAYLIGHT
DTSTART:20260308T030000
TZOFFSETFROM:-0500
TZOFFSETTO:-0400
RRULE:FREQ=YEARLY;BYDAY=2SU;BYMONTH=3
TZNAME:EDT
END:DAYLIGHT
BEGIN:STANDARD
DTSTART:20261101T010000
TZOFFSETFROM:-0400
TZOFFSETTO:-0500
RRULE:FREQ=YEARLY;BYDAY=1SU;BYMONTH=11
TZNAME:EST
END:STANDARD
END:VTIMEZONE
BEGIN:VEVENT
DTSTAMP:20260425T124239Z
UID:e9b4e8e7-20aa-4ba9-859d-0f5e1f3b83d5
DTSTART;VALUE=DATE:20260430
DTEND;VALUE=DATE:20260501
DESCRIPTION:
LOCATION:
SUMMARY:Report cards to go home
END:VEVENT
BEGIN:VEVENT
DTSTAMP:20260425T124239Z
UID:55978059-2624-432e-8e90-fbe7ed21c88f
DTSTART:20260512T080000
DTEND:20260512T180000
DESCRIPTION:
LOCATION:
SUMMARY:Track and Field LKSSAA
END:VEVENT
BEGIN:VEVENT
DTSTAMP:20260425T124239Z
UID:97a1f01f-ec47-4a6d-8faa-5fd7f623908a
DTSTART:20260513T080000
DTEND:20260513T180000
DESCRIPTION:
LOCATION:
SUMMARY:Track and Field LKSSAA
END:VEVENT
BEGIN:VEVENT
DTSTAMP:20260425T124239Z
UID:55d622d9-5a5b-4c58-a96d-e7abf85397d3
DTSTART;VALUE=DATE:20260518
DTEND;VALUE=DATE:20260519
DESCRIPTION:
LOCATION:
SUMMARY:Holiday - no school
END:VEVENT
BEGIN:VEVENT
DTSTAMP:20260425T124239Z
UID:e34c9584-b608-485c-9e28-e08b6db922d8
DTSTART;VALUE=DATE:20260520
DTEND;VALUE=DATE:20260521
DESCRIPTION:
LOCATION:
SUMMARY:3/4 Marks home by student or email
END:VEVENT
BEGIN:VEVENT
DTSTAMP:20260425T124239Z
UID:213892df-0a1d-4302-b79a-278a70b7e2dd
DTSTART:20260520T080000
DTEND:20260520T180000
DESCRIPTION:
LOCATION:
SUMMARY:Track and Field SWOSSAA
END:VEVENT
BEGIN:VEVENT
DTSTAMP:20260425T124239Z
UID:2595f872-531b-4176-95cf-494a340c9a01
DTSTART:20260520T190000
DTEND:20260520T203000
DESCRIPTION:<p>Please enter by the south doors by the library.</p>
LOCATION:BDHS Library
SUMMARY:School Council Meeting
END:VEVENT
BEGIN:VEVENT
DTSTAMP:20260425T124239Z
UID:a8e4c188-5519-498f-b140-0aaa42809e9a
DTSTART:20260521T080000
DTEND:20260521T180000
DESCRIPTION:
LOCATION:
SUMMARY:Track and Field SWOSSAA
END:VEVENT
BEGIN:VEVENT
DTSTAMP:20260425T124239Z
UID:a6eeb11e-2214-4247-a9af-fabd6ae1eefd
DTSTART;VALUE=DATE:20260605
DTEND;VALUE=DATE:20260606
DESCRIPTION:
LOCATION:
SUMMARY:PD Day - no school
END:VEVENT
BEGIN:VEVENT
DTSTAMP:20260425T124239Z
UID:a05632e3-273d-4ac5-bc2a-d902ce854b50
DTSTART;VALUE=DATE:20260619
DTEND;VALUE=DATE:20260620
DESCRIPTION:
LOCATION:
SUMMARY:Final Evaluation Day
END:VEVENT
BEGIN:VEVENT
DTSTAMP:20260425T124239Z
UID:704336f1-75c0-485d-ae38-9c32282a98fd
DTSTART;VALUE=DATE:20260622
DTEND;VALUE=DATE:20260623
DESCRIPTION:
LOCATION:
SUMMARY:Final Evaluation Day
END:VEVENT
BEGIN:VEVENT
DTSTAMP:20260425T124239Z
UID:1ea938a3-fd86-497e-aa7b-de2c623f0899
DTSTART;VALUE=DATE:20260623
DTEND;VALUE=DATE:20260624
DESCRIPTION:
LOCATION:
SUMMARY:Final Evaluation Day
END:VEVENT
BEGIN:VEVENT
DTSTAMP:20260425T124239Z
UID:e6840be3-079f-45fb-b13f-acf932ee4a0e
DTSTART;VALUE=DATE:20260624
DTEND;VALUE=DATE:20260625
DESCRIPTION:
LOCATION:
SUMMARY:Final Evaluation Day
END:VEVENT
BEGIN:VEVENT
DTSTAMP:20260425T124239Z
UID:99302e6b-b05a-4c9d-b174-0e671ce7b77e
DTSTART;VALUE=DATE:20260625
DTEND;VALUE=DATE:20260626
DESCRIPTION:
LOCATION:
SUMMARY:Final Evaluation Day
END:VEVENT
BEGIN:VEVENT
DTSTAMP:20260425T124239Z
UID:1a2e975f-ecc5-44ac-9b83-c46e377aab51
DTSTART;VALUE=DATE:20260626
DTEND;VALUE=DATE:20260627
DESCRIPTION:
LOCATION:
SUMMARY:PD Day - no school
END:VEVENT
BEGIN:VEVENT
DTSTAMP:20260425T124239Z
UID:e42fb3c2-a182-48f0-b97a-0b906cab9416
DTSTART;VALUE=DATE:20260703
DTEND;VALUE=DATE:20260704
DESCRIPTION:
LOCATION:
SUMMARY:Report Cards to be mailed to home address
END:VEVENT
END:VCALENDAR
