BEGIN:VCALENDAR
VERSION:2.0
PRODID:icalendar-ruby
CALSCALE:GREGORIAN
BEGIN:VTIMEZONE
TZID:America/New_York
BEGIN:DAYLIGHT
DTSTART:20260308T030000
TZOFFSETFROM:-0500
TZOFFSETTO:-0400
RRULE:FREQ=YEARLY;BYDAY=2SU;BYMONTH=3
TZNAME:EDT
END:DAYLIGHT
BEGIN:STANDARD
DTSTART:20261101T010000
TZOFFSETFROM:-0400
TZOFFSETTO:-0500
RRULE:FREQ=YEARLY;BYDAY=1SU;BYMONTH=11
TZNAME:EST
END:STANDARD
END:VTIMEZONE
BEGIN:VEVENT
DTSTAMP:20260425T141037Z
UID:49c0c1b1-d299-4e64-93f1-a5acd1422f5b
DTSTART;VALUE=DATE:20260526
DTEND;VALUE=DATE:20260527
DESCRIPTION:
LOCATION:
SUMMARY:Grade 7 Immunizations
END:VEVENT
BEGIN:VEVENT
DTSTAMP:20260425T141037Z
UID:fa9eabcc-66d4-468f-affc-ebf4faf62eef
DTSTART:20260527T160000
DTEND:20260527T190000
DESCRIPTION:<p>This is our final JK Registration and Open House Event. </p>
 <p>Come and play with Mrs. Jacobs and Ms. Sallmen and your new friends. </
 p><p>If you haven't registered yet\, please stop in at the office to see M
 rs. Dresser as well.</p>
LOCATION:
SUMMARY:NEW TO JK REGISTRATION AND OPEN HOUSE
END:VEVENT
BEGIN:VEVENT
DTSTAMP:20260425T141037Z
UID:fc1017b0-155a-46ad-8ef4-9055864df720
DTSTART:20260601T090000
DTEND:20260601T140000
DESCRIPTION:<p>Mrs. Brown will be leading our Grade 3 on this field trip to
  Point Pelee</p>
LOCATION:
SUMMARY:Grade 3 Students to Point Pelee 
END:VEVENT
BEGIN:VEVENT
DTSTAMP:20260425T141037Z
UID:6c54f74d-beed-4ef2-9a8a-3489844aa6b9
DTSTART;VALUE=DATE:20260604
DTEND;VALUE=DATE:20260605
DESCRIPTION:<p>If your student has qualified for this track meet\, you will
  be receiving information home </p>
LOCATION:
SUMMARY:Area Track Meet at CKSS in Chatham 
END:VEVENT
BEGIN:VEVENT
DTSTAMP:20260425T141037Z
UID:ec5376fd-cc4a-45b2-9f7d-142d52ac25e9
DTSTART;VALUE=DATE:20260605
DTEND;VALUE=DATE:20260606
DESCRIPTION:
LOCATION:
SUMMARY:PA DAY - No School
END:VEVENT
BEGIN:VEVENT
DTSTAMP:20260425T141037Z
UID:ce206626-c5f6-41cf-91d1-031cefcaf35a
DTSTART;VALUE=DATE:20260616
DTEND;VALUE=DATE:20260617
DESCRIPTION:<p>If your student has qualified for this track meet\, you will
  be receiving information home </p>
LOCATION:
SUMMARY:Regional Track Meet in Sarnia
END:VEVENT
BEGIN:VEVENT
DTSTAMP:20260425T141037Z
UID:b6ec1503-31ed-4479-abb1-62701e90db70
DTSTART:20260618T080000
DTEND:20260618T090000
DESCRIPTION:<p>More information to follow soon</p>
LOCATION:
SUMMARY:Grade 8 Graduation 
END:VEVENT
BEGIN:VEVENT
DTSTAMP:20260425T141037Z
UID:8ed342ab-214f-45ab-bfcc-b073b3205086
DTSTART;VALUE=DATE:20260625
DTEND;VALUE=DATE:20260626
DESCRIPTION:
LOCATION:
SUMMARY:LAST DAY OF SCHOOL FOR 2025-26 School Year 
END:VEVENT
END:VCALENDAR
