BEGIN:VCALENDAR
VERSION:2.0
PRODID:icalendar-ruby
CALSCALE:GREGORIAN
BEGIN:VTIMEZONE
TZID:America/New_York
BEGIN:DAYLIGHT
DTSTART:20260308T030000
TZOFFSETFROM:-0500
TZOFFSETTO:-0400
RRULE:FREQ=YEARLY;BYDAY=2SU;BYMONTH=3
TZNAME:EDT
END:DAYLIGHT
BEGIN:STANDARD
DTSTART:20261101T010000
TZOFFSETFROM:-0400
TZOFFSETTO:-0500
RRULE:FREQ=YEARLY;BYDAY=1SU;BYMONTH=11
TZNAME:EST
END:STANDARD
END:VTIMEZONE
BEGIN:VEVENT
DTSTAMP:20260422T224259Z
UID:5f089e7d-d799-469e-913a-e45b29c51dd0
DTSTART;VALUE=DATE:20260423
DTEND;VALUE=DATE:20260424
DESCRIPTION:
LOCATION:
SUMMARY:Hot Dog Lunch for students who placed an order.
END:VEVENT
BEGIN:VEVENT
DTSTAMP:20260422T224259Z
UID:95db6f39-ba30-403b-87ad-6b04e51afe8d
DTSTART;VALUE=DATE:20260423
DTEND;VALUE=DATE:20260424
DESCRIPTION:
LOCATION:
SUMMARY:Students may purchase popcorn.
END:VEVENT
BEGIN:VEVENT
DTSTAMP:20260422T224259Z
UID:8a0ab1e2-f89c-463f-8682-3f15758a4e03
DTSTART;VALUE=DATE:20260427
DTEND;VALUE=DATE:20260428
DESCRIPTION:
LOCATION:
SUMMARY:Pizza Lunch for students who placed an order.
END:VEVENT
BEGIN:VEVENT
DTSTAMP:20260422T224259Z
UID:6400b060-a868-44c3-896c-cb40d2eef9a0
DTSTART;VALUE=DATE:20260504
DTEND;VALUE=DATE:20260505
DESCRIPTION:
LOCATION:
SUMMARY:Pizza Lunch for students who placed an order.
END:VEVENT
BEGIN:VEVENT
DTSTAMP:20260422T224259Z
UID:04ca7d69-7033-4c09-9599-65a0a824aea6
DTSTART;VALUE=DATE:20260506
DTEND;VALUE=DATE:20260507
DESCRIPTION:
LOCATION:
SUMMARY:Pita Pit Lunch for students who placed an order.
END:VEVENT
BEGIN:VEVENT
DTSTAMP:20260422T224259Z
UID:dba66d31-9aef-4c61-ab61-5279b9a21e73
DTSTART;VALUE=DATE:20260511
DTEND;VALUE=DATE:20260512
DESCRIPTION:
LOCATION:
SUMMARY:Pizza Lunch for students who placed an order.
END:VEVENT
BEGIN:VEVENT
DTSTAMP:20260422T224259Z
UID:563d97a2-4ad9-4fcf-b99b-d4abe0b4aff2
DTSTART;VALUE=DATE:20260514
DTEND;VALUE=DATE:20260515
DESCRIPTION:
LOCATION:
SUMMARY:Hot Dog Lunch for students who placed an order.
END:VEVENT
BEGIN:VEVENT
DTSTAMP:20260422T224259Z
UID:a0cab63f-c569-4a1b-8324-01b70a31dddd
DTSTART;VALUE=DATE:20260518
DTEND;VALUE=DATE:20260519
DESCRIPTION:
LOCATION:
SUMMARY:Victoria Day - Schools are closed
END:VEVENT
BEGIN:VEVENT
DTSTAMP:20260422T224259Z
UID:05b9bade-d5c9-49c2-9f77-6c7b2fc095e7
DTSTART:20260520T080000
DTEND:20260520T090000
DESCRIPTION:
LOCATION:
SUMMARY:Subway Lunch for students who placed an order.
END:VEVENT
BEGIN:VEVENT
DTSTAMP:20260422T224259Z
UID:95848f39-3e82-4b72-84a0-23b810605233
DTSTART;VALUE=DATE:20260525
DTEND;VALUE=DATE:20260526
DESCRIPTION:
LOCATION:
SUMMARY:Pizza lunch forstudents who placed an order.
END:VEVENT
BEGIN:VEVENT
DTSTAMP:20260422T224259Z
UID:b62445e0-7c97-4189-b28f-eff69c681329
DTSTART;VALUE=DATE:20260527
DTEND;VALUE=DATE:20260528
DESCRIPTION:
LOCATION:
SUMMARY:School Event - Track & Field Grade 4-8
END:VEVENT
BEGIN:VEVENT
DTSTAMP:20260422T224259Z
UID:8432829a-89de-4902-9b0a-ad0f9e754abf
DTSTART;VALUE=DATE:20260601
DTEND;VALUE=DATE:20260602
DESCRIPTION:
LOCATION:
SUMMARY:Pizza Lunch for students who placed an order.
END:VEVENT
BEGIN:VEVENT
DTSTAMP:20260422T224259Z
UID:b1341b8e-5911-4d6d-b6ad-3133656200e1
DTSTART;VALUE=DATE:20260602
DTEND;VALUE=DATE:20260603
DESCRIPTION:
LOCATION:
SUMMARY:Pita Pit Lunch for students who placed an order.
END:VEVENT
BEGIN:VEVENT
DTSTAMP:20260422T224259Z
UID:02d7b946-acbf-4337-8bae-9b1f7912da9b
DTSTART;VALUE=DATE:20260608
DTEND;VALUE=DATE:20260609
DESCRIPTION:
LOCATION:
SUMMARY:Pizza Lunch for students who placed an order.
END:VEVENT
BEGIN:VEVENT
DTSTAMP:20260422T224259Z
UID:ce98f091-998a-418c-9c90-e7bf66e517c3
DTSTART:20260611T080000
DTEND:20260611T090000
DESCRIPTION:
LOCATION:
SUMMARY:Hot Dog Lunch for students who placed an order.
END:VEVENT
BEGIN:VEVENT
DTSTAMP:20260422T224259Z
UID:f0c1d8cc-008f-4794-ad59-bc1336f64089
DTSTART;VALUE=DATE:20260615
DTEND;VALUE=DATE:20260616
DESCRIPTION:
LOCATION:
SUMMARY:Pizza Lunch for students who placed an order.
END:VEVENT
BEGIN:VEVENT
DTSTAMP:20260422T224259Z
UID:a0c3d3e4-b661-4aa0-9ab3-a42f86ebde73
DTSTART;VALUE=DATE:20260617
DTEND;VALUE=DATE:20260618
DESCRIPTION:
LOCATION:
SUMMARY:Subway Lunch for students who placed an order.
END:VEVENT
END:VCALENDAR
