BEGIN:VCALENDAR
VERSION:2.0
PRODID:icalendar-ruby
CALSCALE:GREGORIAN
BEGIN:VTIMEZONE
TZID:America/New_York
BEGIN:DAYLIGHT
DTSTART:20260308T030000
TZOFFSETFROM:-0500
TZOFFSETTO:-0400
RRULE:FREQ=YEARLY;BYDAY=2SU;BYMONTH=3
TZNAME:EDT
END:DAYLIGHT
BEGIN:STANDARD
DTSTART:20261101T010000
TZOFFSETFROM:-0400
TZOFFSETTO:-0500
RRULE:FREQ=YEARLY;BYDAY=1SU;BYMONTH=11
TZNAME:EST
END:STANDARD
END:VTIMEZONE
BEGIN:VEVENT
DTSTAMP:20260425T110002Z
UID:eaf80cdd-7a96-4e41-af1e-a9b7f045928b
DTSTART;VALUE=DATE:20260430
DTEND;VALUE=DATE:20260501
DESCRIPTION:
LOCATION:
SUMMARY:Smoothie Day
END:VEVENT
BEGIN:VEVENT
DTSTAMP:20260425T110002Z
UID:776bea71-dd2a-4de1-aa7b-2d31547072f1
DTSTART;VALUE=DATE:20260501
DTEND;VALUE=DATE:20260502
DESCRIPTION:
LOCATION:
SUMMARY:Beach Day
END:VEVENT
BEGIN:VEVENT
DTSTAMP:20260425T110002Z
UID:28a2905e-1a3d-4a82-b6c6-ee16312af017
DTSTART;VALUE=DATE:20260505
DTEND;VALUE=DATE:20260506
DESCRIPTION:
LOCATION:CKSS
SUMMARY:Dance Show and Book Fair
END:VEVENT
BEGIN:VEVENT
DTSTAMP:20260425T110002Z
UID:894f4ab8-d0c2-4614-8215-cd2d94d60007
DTSTART;VALUE=DATE:20260507
DTEND;VALUE=DATE:20260508
DESCRIPTION:
LOCATION:
SUMMARY:Int. Trip to CKSS to see "The Prom"
END:VEVENT
BEGIN:VEVENT
DTSTAMP:20260425T110002Z
UID:aa14475c-acd2-4bd9-8e31-3e181be480e1
DTSTART;VALUE=DATE:20260512
DTEND;VALUE=DATE:20260513
DESCRIPTION:
LOCATION:
SUMMARY:Barnstormers Game
END:VEVENT
BEGIN:VEVENT
DTSTAMP:20260425T110002Z
UID:7d21e6fe-978a-47ad-ab4d-4956c9dda0b3
DTSTART:20260512T180000
DTEND:20260512T190000
DESCRIPTION:
LOCATION:
SUMMARY:Home and School Meeting
END:VEVENT
BEGIN:VEVENT
DTSTAMP:20260425T110002Z
UID:fe1e7f72-32e1-44bc-850c-41e025184e21
DTSTART;VALUE=DATE:20260514
DTEND;VALUE=DATE:20260515
DESCRIPTION:
LOCATION:
SUMMARY:Smoothie Day
END:VEVENT
BEGIN:VEVENT
DTSTAMP:20260425T110002Z
UID:0390ca0a-3488-4a89-a352-1d0769fd057d
DTSTART:20260514T190000
DTEND:20260514T203000
DESCRIPTION:
LOCATION:Ca
SUMMARY:Youth Community Recognition Awards
END:VEVENT
BEGIN:VEVENT
DTSTAMP:20260425T110002Z
UID:c29caf1b-c88b-4c5d-a3bf-39f2daf26886
DTSTART;VALUE=DATE:20260518
DTEND;VALUE=DATE:20260519
DESCRIPTION:
LOCATION:
SUMMARY:Victoria Day - No School
END:VEVENT
BEGIN:VEVENT
DTSTAMP:20260425T110002Z
UID:0aca0e24-6729-4c98-b2f2-e179d64431a2
DTSTART:20260527T160000
DTEND:20260527T190000
DESCRIPTION:
LOCATION:
SUMMARY:New To Kindergarten Tour
END:VEVENT
BEGIN:VEVENT
DTSTAMP:20260425T110002Z
UID:d34f25f1-c862-4387-b496-bee5c387a032
DTSTART;VALUE=DATE:20260528
DTEND;VALUE=DATE:20260529
DESCRIPTION:
LOCATION:
SUMMARY:Smoothie Day
END:VEVENT
BEGIN:VEVENT
DTSTAMP:20260425T110002Z
UID:5ecf8ab0-1c8d-40bf-8082-eb7143c25b8b
DTSTART;VALUE=DATE:20260604
DTEND;VALUE=DATE:20260605
DESCRIPTION:
LOCATION:
SUMMARY:Mismatch Day
END:VEVENT
BEGIN:VEVENT
DTSTAMP:20260425T110002Z
UID:0ee7c5d7-4b41-45c9-b541-31a6f88df7c8
DTSTART:20260604T080000
DTEND:20260604T090000
DESCRIPTION:
LOCATION:
SUMMARY:Gr.6-8 Field Trip to Circle R Ranch
END:VEVENT
BEGIN:VEVENT
DTSTAMP:20260425T110002Z
UID:07311df6-c384-4d2f-84c9-3ef2566f1ff8
DTSTART;VALUE=DATE:20260605
DTEND;VALUE=DATE:20260606
DESCRIPTION:
LOCATION:
SUMMARY:P.A. Day
END:VEVENT
BEGIN:VEVENT
DTSTAMP:20260425T110002Z
UID:1eeeb317-0838-45ae-8c49-d1b2df4278e0
DTSTART;VALUE=DATE:20260609
DTEND;VALUE=DATE:20260610
DESCRIPTION:
LOCATION:
SUMMARY:City Track and Field Day
END:VEVENT
BEGIN:VEVENT
DTSTAMP:20260425T110002Z
UID:f4235774-589a-491f-94fc-58ef1ab93e3e
DTSTART;VALUE=DATE:20260609
DTEND;VALUE=DATE:20260610
DESCRIPTION:
LOCATION:
SUMMARY:Kindergarten Trip to Clovermead
END:VEVENT
BEGIN:VEVENT
DTSTAMP:20260425T110002Z
UID:4ada1f17-fb66-47b3-b1e0-ed747272997d
DTSTART;VALUE=DATE:20260610
DTEND;VALUE=DATE:20260611
DESCRIPTION:
LOCATION:
SUMMARY:Rain Date - City Track and Field
END:VEVENT
BEGIN:VEVENT
DTSTAMP:20260425T110002Z
UID:ee11e351-bb06-4387-a02f-2dbf94dee031
DTSTART;VALUE=DATE:20260622
DTEND;VALUE=DATE:20260623
DESCRIPTION:
LOCATION:
SUMMARY:Grade 8 Graduation 
END:VEVENT
BEGIN:VEVENT
DTSTAMP:20260425T110002Z
UID:aa4e867e-9026-4806-beb8-9264eaf8aeec
DTSTART;VALUE=DATE:20260625
DTEND;VALUE=DATE:20260626
DESCRIPTION:
LOCATION:
SUMMARY:Last Day of School
END:VEVENT
BEGIN:VEVENT
DTSTAMP:20260425T110002Z
UID:2799a190-71f7-4150-b9ea-9c7fa6b48c51
DTSTART;VALUE=DATE:20260626
DTEND;VALUE=DATE:20260627
DESCRIPTION:
LOCATION:
SUMMARY:P.A. Day
END:VEVENT
END:VCALENDAR
