BEGIN:VCALENDAR
VERSION:2.0
PRODID:icalendar-ruby
CALSCALE:GREGORIAN
BEGIN:VTIMEZONE
TZID:America/New_York
BEGIN:DAYLIGHT
DTSTART:20260308T030000
TZOFFSETFROM:-0500
TZOFFSETTO:-0400
RRULE:FREQ=YEARLY;BYDAY=2SU;BYMONTH=3
TZNAME:EDT
END:DAYLIGHT
BEGIN:STANDARD
DTSTART:20261101T010000
TZOFFSETFROM:-0400
TZOFFSETTO:-0500
RRULE:FREQ=YEARLY;BYDAY=1SU;BYMONTH=11
TZNAME:EST
END:STANDARD
END:VTIMEZONE
BEGIN:VEVENT
DTSTAMP:20260423T211743Z
UID:ff6be8f2-51a6-4e4f-af11-736b36f91ad3
DTSTART:20260423T080000
DTEND:20260423T090000
DESCRIPTION:
LOCATION:
SUMMARY:Sub Day
END:VEVENT
BEGIN:VEVENT
DTSTAMP:20260423T211743Z
UID:482a1a97-0dec-40b5-b128-ac8a43f95af7
DTSTART;VALUE=DATE:20260424
DTEND;VALUE=DATE:20260425
DESCRIPTION:
LOCATION:
SUMMARY:PA Day
END:VEVENT
BEGIN:VEVENT
DTSTAMP:20260423T211743Z
UID:64aef094-1fcc-4129-9b6a-00f9ec401325
DTSTART:20260428T080000
DTEND:20260428T090000
DESCRIPTION:
LOCATION:
SUMMARY:Pizza Day
END:VEVENT
BEGIN:VEVENT
DTSTAMP:20260423T211743Z
UID:31a85c94-db05-4b8d-ae58-866ef17b4d5f
DTSTART:20260505T080000
DTEND:20260505T090000
DESCRIPTION:
LOCATION:
SUMMARY:Pizza Day
END:VEVENT
BEGIN:VEVENT
DTSTAMP:20260423T211743Z
UID:4a66d670-5f23-4e03-8916-dce630a185a8
DTSTART:20260506T080000
DTEND:20260506T090000
DESCRIPTION:
LOCATION:
SUMMARY:Grade 7 Immunizations
END:VEVENT
BEGIN:VEVENT
DTSTAMP:20260423T211743Z
UID:202f7abd-c343-48d9-983f-cd792a550622
DTSTART:20260507T080000
DTEND:20260507T090000
DESCRIPTION:
LOCATION:
SUMMARY:Sub Day
END:VEVENT
BEGIN:VEVENT
DTSTAMP:20260423T211743Z
UID:5aaba3d6-78a5-4557-81f2-66d12076175b
DTSTART:20260512T080000
DTEND:20260512T090000
DESCRIPTION:
LOCATION:
SUMMARY:Pizza Day
END:VEVENT
BEGIN:VEVENT
DTSTAMP:20260423T211743Z
UID:5ce6848f-f9e5-40c0-8198-917520f17b7a
DTSTART;VALUE=DATE:20260518
DTEND;VALUE=DATE:20260519
DESCRIPTION:
LOCATION:
SUMMARY:Victoria Day
END:VEVENT
BEGIN:VEVENT
DTSTAMP:20260423T211743Z
UID:dcc67828-22f1-4048-8d0a-77792afa7bc0
DTSTART:20260519T080000
DTEND:20260519T090000
DESCRIPTION:
LOCATION:
SUMMARY:Pizza Day
END:VEVENT
BEGIN:VEVENT
DTSTAMP:20260423T211743Z
UID:0efcc946-0cf0-4659-a24f-b33527096097
DTSTART:20260521T080000
DTEND:20260521T090000
DESCRIPTION:
LOCATION:
SUMMARY:Sub Day
END:VEVENT
BEGIN:VEVENT
DTSTAMP:20260423T211743Z
UID:f669a7c7-e372-48a2-b7bd-14ea5e31074c
DTSTART:20260526T080000
DTEND:20260526T090000
DESCRIPTION:
LOCATION:
SUMMARY:Pizza Day
END:VEVENT
BEGIN:VEVENT
DTSTAMP:20260423T211743Z
UID:c8bf6245-a119-4813-83f9-487cd7d96aed
DTSTART:20260527T160000
DTEND:20260527T190000
DESCRIPTION:
LOCATION:
SUMMARY:JK Registration and Open House
END:VEVENT
BEGIN:VEVENT
DTSTAMP:20260423T211743Z
UID:c840eee9-41a6-490e-8479-7a930c716a73
DTSTART:20260602T080000
DTEND:20260602T090000
DESCRIPTION:
LOCATION:
SUMMARY:Pizza Day
END:VEVENT
BEGIN:VEVENT
DTSTAMP:20260423T211743Z
UID:35efe10f-485d-462c-a7a3-114f7cc3c149
DTSTART:20260604T080000
DTEND:20260604T090000
DESCRIPTION:
LOCATION:
SUMMARY:Sub Day
END:VEVENT
BEGIN:VEVENT
DTSTAMP:20260423T211743Z
UID:0dc97ee3-4946-4f4b-bcea-05d8e549763d
DTSTART;VALUE=DATE:20260605
DTEND;VALUE=DATE:20260606
DESCRIPTION:
LOCATION:
SUMMARY:PA Day
END:VEVENT
BEGIN:VEVENT
DTSTAMP:20260423T211743Z
UID:f91778be-b540-4ef4-8397-819397cb8a1c
DTSTART:20260609T080000
DTEND:20260609T090000
DESCRIPTION:
LOCATION:
SUMMARY:Pizza Day
END:VEVENT
BEGIN:VEVENT
DTSTAMP:20260423T211743Z
UID:1d1b1c98-4d0c-41d8-85ad-60194d38d0a1
DTSTART:20260616T080000
DTEND:20260616T090000
DESCRIPTION:
LOCATION:
SUMMARY:Pizza Day
END:VEVENT
BEGIN:VEVENT
DTSTAMP:20260423T211743Z
UID:9c06b59f-e799-4b09-942a-78c00018f8d1
DTSTART:20260618T080000
DTEND:20260618T090000
DESCRIPTION:
LOCATION:
SUMMARY:Sub Day
END:VEVENT
BEGIN:VEVENT
DTSTAMP:20260423T211743Z
UID:eafb3bd0-cfee-422a-81ab-07882e6ab277
DTSTART:20260625T080000
DTEND:20260625T090000
DESCRIPTION:
LOCATION:
SUMMARY:Communication of Learning & Term Two reports sent home
END:VEVENT
BEGIN:VEVENT
DTSTAMP:20260423T211743Z
UID:fb0833c5-3e11-4cf3-854b-8aaac77830a8
DTSTART:20260625T080000
DTEND:20260625T090000
DESCRIPTION:
LOCATION:
SUMMARY:Last Day of Classes
END:VEVENT
BEGIN:VEVENT
DTSTAMP:20260423T211743Z
UID:8fe2b25f-c216-497b-8647-36613ccd4070
DTSTART;VALUE=DATE:20260626
DTEND;VALUE=DATE:20260627
DESCRIPTION:
LOCATION:
SUMMARY:PA Day
END:VEVENT
END:VCALENDAR
