BEGIN:VCALENDAR
VERSION:2.0
PRODID:icalendar-ruby
CALSCALE:GREGORIAN
BEGIN:VTIMEZONE
TZID:America/New_York
BEGIN:DAYLIGHT
DTSTART:20260308T030000
TZOFFSETFROM:-0500
TZOFFSETTO:-0400
RRULE:FREQ=YEARLY;BYDAY=2SU;BYMONTH=3
TZNAME:EDT
END:DAYLIGHT
BEGIN:STANDARD
DTSTART:20261101T010000
TZOFFSETFROM:-0400
TZOFFSETTO:-0500
RRULE:FREQ=YEARLY;BYDAY=1SU;BYMONTH=11
TZNAME:EST
END:STANDARD
END:VTIMEZONE
BEGIN:VEVENT
DTSTAMP:20260425T190710Z
UID:9fa5d43a-9e5d-4b65-bc04-e855a86bd794
DTSTART;VALUE=DATE:20260514
DTEND;VALUE=DATE:20260515
DESCRIPTION:<p>Track &amp\; Field Day for Grades 4\, 5 &amp\; 6.  Raindate 
 is May 15th.</p>
LOCATION:
SUMMARY:Track & Field Day
END:VEVENT
BEGIN:VEVENT
DTSTAMP:20260425T190710Z
UID:84eddc6a-ff29-46cb-a1b0-742c871db492
DTSTART:20260525T180000
DTEND:20260525T190000
DESCRIPTION:
LOCATION:
SUMMARY:Home & School Meeting
END:VEVENT
END:VCALENDAR
