BEGIN:VCALENDAR
VERSION:2.0
PRODID:icalendar-ruby
CALSCALE:GREGORIAN
BEGIN:VTIMEZONE
TZID:America/New_York
BEGIN:DAYLIGHT
DTSTART:20260308T030000
TZOFFSETFROM:-0500
TZOFFSETTO:-0400
RRULE:FREQ=YEARLY;BYDAY=2SU;BYMONTH=3
TZNAME:EDT
END:DAYLIGHT
BEGIN:STANDARD
DTSTART:20261101T010000
TZOFFSETFROM:-0400
TZOFFSETTO:-0500
RRULE:FREQ=YEARLY;BYDAY=1SU;BYMONTH=11
TZNAME:EST
END:STANDARD
END:VTIMEZONE
BEGIN:VEVENT
DTSTAMP:20260421T085008Z
UID:e95d7c9a-031c-4e11-87b6-f0eb1c1de64c
DTSTART:20260421T153000
DTEND:20260421T163000
DESCRIPTION:
LOCATION:
SUMMARY:Jr. Boys Basketball @GDPS vs. ICRPS
END:VEVENT
BEGIN:VEVENT
DTSTAMP:20260421T085008Z
UID:7899ba97-4064-417c-a242-0cf5e2edf1a8
DTSTART;VALUE=DATE:20260422
DTEND;VALUE=DATE:20260423
DESCRIPTION:
LOCATION:
SUMMARY:Food Day | Hot Dogs
END:VEVENT
BEGIN:VEVENT
DTSTAMP:20260421T085008Z
UID:0230c031-ba31-443d-b0b7-0f02e46b387b
DTSTART:20260422T153000
DTEND:20260422T163000
DESCRIPTION:
LOCATION:
SUMMARY:Jr. Girls Basketball vs. Naahii Ridge @GDPS
END:VEVENT
BEGIN:VEVENT
DTSTAMP:20260421T085008Z
UID:58369f12-0c91-4bd8-91fb-ec401c0c2f8c
DTSTART:20260423T153000
DTEND:20260423T163000
DESCRIPTION:
LOCATION:
SUMMARY:Jr. Boys Basketball vs. King George @GDPS
END:VEVENT
BEGIN:VEVENT
DTSTAMP:20260421T085008Z
UID:e5fe391a-c52e-408b-ad6d-4f88714b036e
DTSTART;VALUE=DATE:20260424
DTEND;VALUE=DATE:20260425
DESCRIPTION:
LOCATION:
SUMMARY:Professional Activity Day - No School
END:VEVENT
BEGIN:VEVENT
DTSTAMP:20260421T085008Z
UID:513b97e4-6de9-4868-bc4b-223c98fb62c6
DTSTART:20260505T160000
DTEND:20260505T190000
DESCRIPTION:
LOCATION:
SUMMARY:Family Engagement and Wellness Night
END:VEVENT
BEGIN:VEVENT
DTSTAMP:20260421T085008Z
UID:1cec7443-d11a-4d26-9da0-c07848c817ad
DTSTART;VALUE=DATE:20260514
DTEND;VALUE=DATE:20260515
DESCRIPTION:
LOCATION:
SUMMARY:Grade Track and Field Day @CKSS
END:VEVENT
BEGIN:VEVENT
DTSTAMP:20260421T085008Z
UID:e1c80598-673b-4ede-8397-a120fbd537e0
DTSTART:20260521T190000
DTEND:20260521T203000
DESCRIPTION:
LOCATION:
SUMMARY:Once Upon a Crime | Spring Musical
END:VEVENT
BEGIN:VEVENT
DTSTAMP:20260421T085008Z
UID:d7b92df7-4d81-41e5-aa4d-5782d8907a4e
DTSTART:20260522T190000
DTEND:20260522T203000
DESCRIPTION:
LOCATION:
SUMMARY:Once Upon a Crime | Spring Musical
END:VEVENT
BEGIN:VEVENT
DTSTAMP:20260421T085008Z
UID:deaf99c4-015d-4e6c-8b97-48d604e3b7a5
DTSTART:20260526T120000
DTEND:20260526T130000
DESCRIPTION:
LOCATION:
SUMMARY:Volunteer Appreciation Day 
END:VEVENT
BEGIN:VEVENT
DTSTAMP:20260421T085008Z
UID:ab7fd8e8-8846-42ec-8130-40ced441170d
DTSTART:20260603T120000
DTEND:20260603T130000
DESCRIPTION:
LOCATION:
SUMMARY:Theland Kicknosway | Indigenous Hoop Dancer 
END:VEVENT
BEGIN:VEVENT
DTSTAMP:20260421T085008Z
UID:88838e6f-51c3-4792-a697-51322d890a53
DTSTART;VALUE=DATE:20260609
DTEND;VALUE=DATE:20260610
DESCRIPTION:
LOCATION:
SUMMARY:City Track and Field Meet - Grade
END:VEVENT
BEGIN:VEVENT
DTSTAMP:20260421T085008Z
UID:3b07105e-9610-4c8d-8e9a-72aaf2cabcbb
DTSTART;VALUE=DATE:20260612
DTEND;VALUE=DATE:20260613
DESCRIPTION:
LOCATION:
SUMMARY:Primary Track and Field @GDPS
END:VEVENT
BEGIN:VEVENT
DTSTAMP:20260421T085008Z
UID:bb9d12f8-4cd0-40b1-8df1-c622f80dfa07
DTSTART;VALUE=DATE:20260616
DTEND;VALUE=DATE:20260617
DESCRIPTION:
LOCATION:
SUMMARY:District Track and Field Meet
END:VEVENT
BEGIN:VEVENT
DTSTAMP:20260421T085008Z
UID:324be336-6602-48b6-a668-570ac060987d
DTSTART:20260623T180000
DTEND:20260623T210000
DESCRIPTION:
LOCATION:
SUMMARY:Grade 8 Graduation
END:VEVENT
END:VCALENDAR
