BEGIN:VCALENDAR
VERSION:2.0
PRODID:icalendar-ruby
CALSCALE:GREGORIAN
BEGIN:VTIMEZONE
TZID:America/New_York
BEGIN:DAYLIGHT
DTSTART:20260308T030000
TZOFFSETFROM:-0500
TZOFFSETTO:-0400
RRULE:FREQ=YEARLY;BYDAY=2SU;BYMONTH=3
TZNAME:EDT
END:DAYLIGHT
BEGIN:STANDARD
DTSTART:20261101T010000
TZOFFSETFROM:-0400
TZOFFSETTO:-0500
RRULE:FREQ=YEARLY;BYDAY=1SU;BYMONTH=11
TZNAME:EST
END:STANDARD
END:VTIMEZONE
BEGIN:VEVENT
DTSTAMP:20260422T114251Z
UID:abf078e3-2f5c-45ad-8209-e415a835c4eb
DTSTART:20260422T132500
DTEND:20260422T140500
DESCRIPTION:Second Lunch
LOCATION:
SUMMARY:Sitara Hot Lunch
END:VEVENT
BEGIN:VEVENT
DTSTAMP:20260422T114251Z
UID:f922ce99-442f-4a88-b60d-99ba912e396c
DTSTART:20260423T091500
DTEND:20260423T143000
DESCRIPTION:Ham &amp\; Boyle
LOCATION:
SUMMARY:Ska-Nah-Doht Village & Museum Trip
END:VEVENT
BEGIN:VEVENT
DTSTAMP:20260422T114251Z
UID:342e77ef-c268-405c-b2cb-e9fd75942b7e
DTSTART;VALUE=DATE:20260424
DTEND;VALUE=DATE:20260425
DESCRIPTION:No school
LOCATION:
SUMMARY:PA Day
END:VEVENT
BEGIN:VEVENT
DTSTAMP:20260422T114251Z
UID:b8cc4beb-1fe5-4210-a3b5-b4da5de24673
DTSTART;VALUE=DATE:20260501
DTEND;VALUE=DATE:20260502
DESCRIPTION:
LOCATION:
SUMMARY:Spring Dance
END:VEVENT
END:VCALENDAR
