BEGIN:VCALENDAR
VERSION:2.0
PRODID:icalendar-ruby
CALSCALE:GREGORIAN
BEGIN:VTIMEZONE
TZID:America/New_York
BEGIN:DAYLIGHT
DTSTART:20260308T030000
TZOFFSETFROM:-0500
TZOFFSETTO:-0400
RRULE:FREQ=YEARLY;BYDAY=2SU;BYMONTH=3
TZNAME:EDT
END:DAYLIGHT
BEGIN:STANDARD
DTSTART:20261101T010000
TZOFFSETFROM:-0400
TZOFFSETTO:-0500
RRULE:FREQ=YEARLY;BYDAY=1SU;BYMONTH=11
TZNAME:EST
END:STANDARD
END:VTIMEZONE
BEGIN:VEVENT
DTSTAMP:20260420T174446Z
UID:847614d3-4202-4121-94e0-28a5fd40a9ba
DTSTART;VALUE=DATE:20260422
DTEND;VALUE=DATE:20260423
DESCRIPTION:
LOCATION:
SUMMARY:Popcorn Day
END:VEVENT
BEGIN:VEVENT
DTSTAMP:20260420T174446Z
UID:f2c15594-21ed-4d5a-8a1f-1625c1c635f7
DTSTART;VALUE=DATE:20260423
DTEND;VALUE=DATE:20260424
DESCRIPTION:
LOCATION:
SUMMARY:Pizza Day
END:VEVENT
BEGIN:VEVENT
DTSTAMP:20260420T174446Z
UID:6247245b-a20a-4d33-b4fc-7205e57087dd
DTSTART;VALUE=DATE:20260427
DTEND;VALUE=DATE:20260504
DESCRIPTION:Buy cookies at the Watford Tim Hortons and support our Snack Pr
 ogram!&nbsp\;
LOCATION:
SUMMARY:Smile Cookie Week
END:VEVENT
BEGIN:VEVENT
DTSTAMP:20260420T174446Z
UID:8ab14ed0-c375-4fdf-b2c3-2d3226b673c7
DTSTART;VALUE=DATE:20260429
DTEND;VALUE=DATE:20260430
DESCRIPTION:
LOCATION:
SUMMARY:Popcorn Day
END:VEVENT
BEGIN:VEVENT
DTSTAMP:20260420T174446Z
UID:1bb4e2d3-bcd9-4b8c-b03c-e837d4416834
DTSTART;VALUE=DATE:20260504
DTEND;VALUE=DATE:20260505
DESCRIPTION:
LOCATION:
SUMMARY:Sub Day
END:VEVENT
BEGIN:VEVENT
DTSTAMP:20260420T174446Z
UID:477055e8-5cd3-4920-b4f1-82f1404f3084
DTSTART:20260504T183000
DTEND:20260504T200000
DESCRIPTION:Everyone welcome! &nbsp\;Childcare provided.&nbsp\;
LOCATION:
SUMMARY:School Council Meeting
END:VEVENT
BEGIN:VEVENT
DTSTAMP:20260420T174446Z
UID:58d2c98e-440a-476e-8230-55792191dabf
DTSTART;VALUE=DATE:20260505
DTEND;VALUE=DATE:20260506
DESCRIPTION:Junior Intermediate&nbsp\;
LOCATION:
SUMMARY:Arts Day
END:VEVENT
BEGIN:VEVENT
DTSTAMP:20260420T174446Z
UID:a490b92e-0de7-4a65-a879-81e6c71b3e2a
DTSTART;VALUE=DATE:20260506
DTEND;VALUE=DATE:20260507
DESCRIPTION:
LOCATION:
SUMMARY:Popcorn Day 
END:VEVENT
BEGIN:VEVENT
DTSTAMP:20260420T174446Z
UID:04a7dff8-a3fc-4da6-a66a-a3123115df73
DTSTART;VALUE=DATE:20260507
DTEND;VALUE=DATE:20260508
DESCRIPTION:Primary
LOCATION:
SUMMARY:Arts Day
END:VEVENT
BEGIN:VEVENT
DTSTAMP:20260420T174446Z
UID:5d001111-868e-4ea6-ba31-a030c6a3b9a8
DTSTART;VALUE=DATE:20260507
DTEND;VALUE=DATE:20260508
DESCRIPTION:
LOCATION:
SUMMARY:Pizza Day
END:VEVENT
BEGIN:VEVENT
DTSTAMP:20260420T174446Z
UID:f01c0b13-238d-4a7a-8ad1-5325cae7d709
DTSTART;VALUE=DATE:20260508
DTEND;VALUE=DATE:20260509
DESCRIPTION:
LOCATION:
SUMMARY:Free Lunch
END:VEVENT
BEGIN:VEVENT
DTSTAMP:20260420T174446Z
UID:7d3d5c58-3760-4e42-8452-a50f321bcb7d
DTSTART:20260508T153000
DTEND:20260508T180000
DESCRIPTION:
LOCATION:
SUMMARY:Planters PickUp
END:VEVENT
BEGIN:VEVENT
DTSTAMP:20260420T174446Z
UID:c0a24ab7-61ce-426e-89cc-15cc6efdf258
DTSTART;VALUE=DATE:20260513
DTEND;VALUE=DATE:20260514
DESCRIPTION:Grade 4-8
LOCATION:
SUMMARY:ELES Track & Field Day
END:VEVENT
BEGIN:VEVENT
DTSTAMP:20260420T174446Z
UID:7b32fcd5-3689-47d6-87fa-55b159c9d604
DTSTART;VALUE=DATE:20260513
DTEND;VALUE=DATE:20260514
DESCRIPTION:
LOCATION:
SUMMARY:Popcorn Day
END:VEVENT
BEGIN:VEVENT
DTSTAMP:20260420T174446Z
UID:3105f492-a5b3-4361-b0a1-37c13fcf412f
DTSTART;VALUE=DATE:20260514
DTEND;VALUE=DATE:20260515
DESCRIPTION:
LOCATION:
SUMMARY:Pizza Day
END:VEVENT
BEGIN:VEVENT
DTSTAMP:20260420T174446Z
UID:03b55571-33c2-42d7-8396-c10041b170f3
DTSTART;VALUE=DATE:20260515
DTEND;VALUE=DATE:20260516
DESCRIPTION:
LOCATION:
SUMMARY:Jump Rope For Heart
END:VEVENT
BEGIN:VEVENT
DTSTAMP:20260420T174446Z
UID:4cbf7c25-3edf-44e6-b0e9-3d20556f4a71
DTSTART;VALUE=DATE:20260520
DTEND;VALUE=DATE:20260521
DESCRIPTION:
LOCATION:
SUMMARY:Popcorn Day
END:VEVENT
BEGIN:VEVENT
DTSTAMP:20260420T174446Z
UID:55cccb58-ff5f-4ee7-a62f-bfc1e0560761
DTSTART;VALUE=DATE:20260521
DTEND;VALUE=DATE:20260522
DESCRIPTION:
LOCATION:
SUMMARY:Pizza Day
END:VEVENT
BEGIN:VEVENT
DTSTAMP:20260420T174446Z
UID:8cdc5d72-a209-4351-a66f-1f7a6cfb58c8
DTSTART;VALUE=DATE:20260527
DTEND;VALUE=DATE:20260528
DESCRIPTION:
LOCATION:
SUMMARY:Popcorn Day
END:VEVENT
BEGIN:VEVENT
DTSTAMP:20260420T174446Z
UID:71a2d4c2-a7a5-4498-a27c-41a2efb35ef8
DTSTART:20260527T160000
DTEND:20260527T190000
DESCRIPTION:
LOCATION:
SUMMARY:Kindergarten Registration Open House
END:VEVENT
BEGIN:VEVENT
DTSTAMP:20260420T174446Z
UID:69135bcb-0e2d-4f2d-95a0-cb910933a7a1
DTSTART;VALUE=DATE:20260528
DTEND;VALUE=DATE:20260529
DESCRIPTION:
LOCATION:
SUMMARY:Immunizations Grade 7 
END:VEVENT
BEGIN:VEVENT
DTSTAMP:20260420T174446Z
UID:db70ebac-8302-4535-9f84-fe91adc67416
DTSTART;VALUE=DATE:20260528
DTEND;VALUE=DATE:20260529
DESCRIPTION:
LOCATION:
SUMMARY:Pizza Day
END:VEVENT
BEGIN:VEVENT
DTSTAMP:20260420T174446Z
UID:62f3dde8-3c3d-453e-8365-65a85dcc9eac
DTSTART;VALUE=DATE:20260601
DTEND;VALUE=DATE:20260602
DESCRIPTION:
LOCATION:
SUMMARY:Sub Day
END:VEVENT
BEGIN:VEVENT
DTSTAMP:20260420T174446Z
UID:9c0ffe0a-a435-449e-9d68-56ba0d407c90
DTSTART;VALUE=DATE:20260602
DTEND;VALUE=DATE:20260603
DESCRIPTION:
LOCATION:
SUMMARY:NLEAA Track & Field
END:VEVENT
BEGIN:VEVENT
DTSTAMP:20260420T174446Z
UID:dfca22a1-3607-4a7d-8b90-e7807c3f3dae
DTSTART;VALUE=DATE:20260603
DTEND;VALUE=DATE:20260604
DESCRIPTION:
LOCATION:
SUMMARY:Popcorn Day
END:VEVENT
BEGIN:VEVENT
DTSTAMP:20260420T174446Z
UID:1797f441-a741-4bdb-85a9-dde31468d1a6
DTSTART;VALUE=DATE:20260604
DTEND;VALUE=DATE:20260605
DESCRIPTION:
LOCATION:
SUMMARY:Pizza Day
END:VEVENT
BEGIN:VEVENT
DTSTAMP:20260420T174446Z
UID:3fb735b1-1733-4986-ab61-8d1a39428cbf
DTSTART;VALUE=DATE:20260610
DTEND;VALUE=DATE:20260611
DESCRIPTION:
LOCATION:
SUMMARY:Popcorn Day
END:VEVENT
BEGIN:VEVENT
DTSTAMP:20260420T174446Z
UID:a175c70e-9408-47eb-9341-8db631dd7dd5
DTSTART;VALUE=DATE:20260611
DTEND;VALUE=DATE:20260612
DESCRIPTION:
LOCATION:
SUMMARY:Pizza Day
END:VEVENT
BEGIN:VEVENT
DTSTAMP:20260420T174446Z
UID:757c396d-8352-4c19-b816-dfa18c6023ec
DTSTART;VALUE=DATE:20260616
DTEND;VALUE=DATE:20260617
DESCRIPTION:GLSS - for those who qualify&nbsp\;<div><br></div><div><br></di
 v>
LOCATION:
SUMMARY:Track & Field District Meet
END:VEVENT
BEGIN:VEVENT
DTSTAMP:20260420T174446Z
UID:029f258b-2ebd-4dc3-aa13-6630b61a3198
DTSTART;VALUE=DATE:20260617
DTEND;VALUE=DATE:20260618
DESCRIPTION:
LOCATION:
SUMMARY:Popcorn Day
END:VEVENT
BEGIN:VEVENT
DTSTAMP:20260420T174446Z
UID:b5172711-77ac-4795-9ce6-8eab6010b685
DTSTART;VALUE=DATE:20260618
DTEND;VALUE=DATE:20260619
DESCRIPTION:
LOCATION:
SUMMARY:Pizza Day
END:VEVENT
BEGIN:VEVENT
DTSTAMP:20260420T174446Z
UID:21e3b8cc-76c9-464a-ba16-00b72dd4edda
DTSTART;VALUE=DATE:20260619
DTEND;VALUE=DATE:20260620
DESCRIPTION:
LOCATION:
SUMMARY:Playday 
END:VEVENT
BEGIN:VEVENT
DTSTAMP:20260420T174446Z
UID:09033b8d-f5dd-4446-83b5-df041693c3bf
DTSTART:20260623T190000
DTEND:20260623T220000
DESCRIPTION:
LOCATION:
SUMMARY:Grad
END:VEVENT
BEGIN:VEVENT
DTSTAMP:20260420T174446Z
UID:d9cde3d0-f0bf-47ac-8d1e-4e020b33d1a1
DTSTART:20260624T093000
DTEND:20260624T103000
DESCRIPTION:
LOCATION:
SUMMARY:YearEnd Assembly
END:VEVENT
BEGIN:VEVENT
DTSTAMP:20260420T174446Z
UID:6b6833cd-abdd-465a-bc44-26d2117261a7
DTSTART;VALUE=DATE:20260625
DTEND;VALUE=DATE:20260626
DESCRIPTION:
LOCATION:
SUMMARY:Free Pizza Day
END:VEVENT
END:VCALENDAR
