BEGIN:VCALENDAR
VERSION:2.0
PRODID:icalendar-ruby
CALSCALE:GREGORIAN
BEGIN:VTIMEZONE
TZID:America/New_York
BEGIN:DAYLIGHT
DTSTART:20260308T030000
TZOFFSETFROM:-0500
TZOFFSETTO:-0400
RRULE:FREQ=YEARLY;BYDAY=2SU;BYMONTH=3
TZNAME:EDT
END:DAYLIGHT
BEGIN:STANDARD
DTSTART:20261101T010000
TZOFFSETFROM:-0400
TZOFFSETTO:-0500
RRULE:FREQ=YEARLY;BYDAY=1SU;BYMONTH=11
TZNAME:EST
END:STANDARD
END:VTIMEZONE
BEGIN:VEVENT
DTSTAMP:20260421T050934Z
UID:6ab5314f-919e-4ea7-94bf-68a514e0b61e
DTSTART:20260421T130000
DTEND:20260421T133000
DESCRIPTION:
LOCATION:
SUMMARY:Bar Burrito Lunch Fundraiser 
END:VEVENT
BEGIN:VEVENT
DTSTAMP:20260421T050934Z
UID:d288b186-ade2-4eb1-a77f-52e5922a659e
DTSTART:20260424T090000
DTEND:20260424T153000
DESCRIPTION:
LOCATION:
SUMMARY:Professional Activity Day
END:VEVENT
BEGIN:VEVENT
DTSTAMP:20260421T050934Z
UID:9bec970d-156a-4832-9b3f-4100176c211e
DTSTART:20260501T130000
DTEND:20260501T133000
DESCRIPTION:
LOCATION:
SUMMARY:Boston Pizza Fundraiser Lunch 
END:VEVENT
BEGIN:VEVENT
DTSTAMP:20260421T050934Z
UID:9785efa1-d229-4b28-8a3e-1c4bb080a84f
DTSTART:20260512T130000
DTEND:20260512T134500
DESCRIPTION:
LOCATION:
SUMMARY:Bagel Factory Lunch Fundraiser 
END:VEVENT
BEGIN:VEVENT
DTSTAMP:20260421T050934Z
UID:825d9158-0b04-4528-b34b-28a5c271f7f8
DTSTART:20260515T130000
DTEND:20260515T133000
DESCRIPTION:
LOCATION:
SUMMARY:Subway Lunch Fundraiser
END:VEVENT
BEGIN:VEVENT
DTSTAMP:20260421T050934Z
UID:4ec3298d-5a0a-4c54-8668-147a3a03cbed
DTSTART:20260518T090000
DTEND:20260518T153000
DESCRIPTION:
LOCATION:
SUMMARY:Victoria Day Holiday
END:VEVENT
BEGIN:VEVENT
DTSTAMP:20260421T050934Z
UID:de7826ac-824a-4c46-81e0-771d0a4c3027
DTSTART:20260527T160000
DTEND:20260527T190000
DESCRIPTION:
LOCATION:
SUMMARY:Kindergarten Registration Open House
END:VEVENT
BEGIN:VEVENT
DTSTAMP:20260421T050934Z
UID:3176c199-6e71-4eac-be83-7f445d2e165e
DTSTART:20260529T130000
DTEND:20260529T133000
DESCRIPTION:
LOCATION:
SUMMARY:Pizza Lunch Fundraiser 
END:VEVENT
BEGIN:VEVENT
DTSTAMP:20260421T050934Z
UID:c73e9bbb-dc99-44cf-8ecf-f676f4664b35
DTSTART:20260605T090000
DTEND:20260605T153000
DESCRIPTION:
LOCATION:
SUMMARY:Professional Activity Day
END:VEVENT
BEGIN:VEVENT
DTSTAMP:20260421T050934Z
UID:76f2d8a0-49c4-4438-b5fa-6d8def304e76
DTSTART:20260612T130000
DTEND:20260612T133000
DESCRIPTION:
LOCATION:
SUMMARY:Boston Pizza Fundraiser Lunch 
END:VEVENT
BEGIN:VEVENT
DTSTAMP:20260421T050934Z
UID:0d5bc0ec-1d2f-4a76-b0d1-07e2a591b308
DTSTART:20260625T090000
DTEND:20260625T153000
DESCRIPTION:
LOCATION:
SUMMARY:Last day of school 
END:VEVENT
END:VCALENDAR
