BEGIN:VCALENDAR
VERSION:2.0
PRODID:icalendar-ruby
CALSCALE:GREGORIAN
BEGIN:VTIMEZONE
TZID:America/New_York
BEGIN:DAYLIGHT
DTSTART:20260308T030000
TZOFFSETFROM:-0500
TZOFFSETTO:-0400
RRULE:FREQ=YEARLY;BYDAY=2SU;BYMONTH=3
TZNAME:EDT
END:DAYLIGHT
BEGIN:STANDARD
DTSTART:20261101T010000
TZOFFSETFROM:-0400
TZOFFSETTO:-0500
RRULE:FREQ=YEARLY;BYDAY=1SU;BYMONTH=11
TZNAME:EST
END:STANDARD
END:VTIMEZONE
BEGIN:VEVENT
DTSTAMP:20260420T225054Z
UID:d4c6fa26-482b-4b11-b4a8-d020a7b2158c
DTSTART:20260420T080000
DTEND:20260420T090000
DESCRIPTION:
LOCATION:
SUMMARY:Pajamma Day
END:VEVENT
BEGIN:VEVENT
DTSTAMP:20260420T225055Z
UID:10975eea-071b-484a-a6aa-6ad305621cd2
DTSTART:20260421T080000
DTEND:20260421T090000
DESCRIPTION:
LOCATION:
SUMMARY:Twin Spirit Day
END:VEVENT
BEGIN:VEVENT
DTSTAMP:20260420T225055Z
UID:a04b184b-7eb9-45cc-9bd4-206d79b136dc
DTSTART:20260422T080000
DTEND:20260422T090000
DESCRIPTION:
LOCATION:
SUMMARY:Floral Spirit day 
END:VEVENT
BEGIN:VEVENT
DTSTAMP:20260420T225055Z
UID:d670086d-c14d-4881-b813-7276df2168ce
DTSTART;VALUE=DATE:20260423
DTEND;VALUE=DATE:20260424
DESCRIPTION:
LOCATION:
SUMMARY:Super Hero Spirit Day
END:VEVENT
BEGIN:VEVENT
DTSTAMP:20260420T225055Z
UID:02581a64-10b0-459d-a8a6-2c93eac3b826
DTSTART;VALUE=DATE:20260424
DTEND;VALUE=DATE:20260425
DESCRIPTION:
LOCATION:
SUMMARY:Professional Activity Day
END:VEVENT
BEGIN:VEVENT
DTSTAMP:20260420T225055Z
UID:c166c425-5bef-4b12-816e-6dfcd73de44f
DTSTART;VALUE=DATE:20260429
DTEND;VALUE=DATE:20260430
DESCRIPTION:
LOCATION:
SUMMARY:Pizza for purchase
END:VEVENT
BEGIN:VEVENT
DTSTAMP:20260420T225055Z
UID:a74ea256-ce20-4b90-a9c6-f09215dc51e8
DTSTART:20260513T080000
DTEND:20260513T090000
DESCRIPTION:
LOCATION:
SUMMARY:Subs for Purchase
END:VEVENT
BEGIN:VEVENT
DTSTAMP:20260420T225055Z
UID:bcbb34fe-ee4e-492f-9599-543fa2054673
DTSTART;VALUE=DATE:20260518
DTEND;VALUE=DATE:20260519
DESCRIPTION:
LOCATION:
SUMMARY:Statutory Holiday
END:VEVENT
BEGIN:VEVENT
DTSTAMP:20260420T225055Z
UID:7df86925-b781-48bf-bc64-2bf5ec78dbb6
DTSTART;VALUE=DATE:20260527
DTEND;VALUE=DATE:20260528
DESCRIPTION:
LOCATION:
SUMMARY:Free Pizza Day
END:VEVENT
BEGIN:VEVENT
DTSTAMP:20260420T225055Z
UID:3413d5a1-941b-493a-9bab-e1c6d16f6aab
DTSTART:20260527T160000
DTEND:20260527T190000
DESCRIPTION:<p><span>Please complete the online registration form. When you
  come to the school bring proof of birth and proof of address. We look for
 ward to meeting all our newest students.</span></p><p><span>If you have do
 ne this you are encouraged to come to the school.  Your child may bring a 
 friend to enjoy the space.</span></p>
LOCATION:
SUMMARY:Kindergarten Registration
END:VEVENT
BEGIN:VEVENT
DTSTAMP:20260420T225055Z
UID:cd2f343e-8240-4214-a292-48992580da1a
DTSTART:20260605T080000
DTEND:20260605T090000
DESCRIPTION:
LOCATION:
SUMMARY:Professional Activity Day
END:VEVENT
BEGIN:VEVENT
DTSTAMP:20260420T225055Z
UID:3fbfbab3-4065-4f69-93ed-71ba3a10bdbe
DTSTART;VALUE=DATE:20260610
DTEND;VALUE=DATE:20260611
DESCRIPTION:
LOCATION:
SUMMARY:Free Walking tacos
END:VEVENT
BEGIN:VEVENT
DTSTAMP:20260420T225055Z
UID:50a1730d-1f97-49c8-b4e2-10b8519cd530
DTSTART:20260626T080000
DTEND:20260626T090000
DESCRIPTION:
LOCATION:
SUMMARY:Professional Activity Day
END:VEVENT
END:VCALENDAR
