BEGIN:VCALENDAR
VERSION:2.0
PRODID:icalendar-ruby
CALSCALE:GREGORIAN
BEGIN:VTIMEZONE
TZID:America/New_York
BEGIN:DAYLIGHT
DTSTART:20260308T030000
TZOFFSETFROM:-0500
TZOFFSETTO:-0400
RRULE:FREQ=YEARLY;BYDAY=2SU;BYMONTH=3
TZNAME:EDT
END:DAYLIGHT
BEGIN:STANDARD
DTSTART:20261101T010000
TZOFFSETFROM:-0400
TZOFFSETTO:-0500
RRULE:FREQ=YEARLY;BYDAY=1SU;BYMONTH=11
TZNAME:EST
END:STANDARD
END:VTIMEZONE
BEGIN:VEVENT
DTSTAMP:20260422T224019Z
UID:f2351cf8-b03c-4891-aec9-96822c1de087
DTSTART:20260422T111000
DTEND:20260422T113000
DESCRIPTION:
LOCATION:
SUMMARY:Hot Dog Lunch
END:VEVENT
BEGIN:VEVENT
DTSTAMP:20260422T224019Z
UID:3b5e156a-e5f0-4122-9f69-7e0deddbe705
DTSTART;VALUE=DATE:20260424
DTEND;VALUE=DATE:20260425
DESCRIPTION:
LOCATION:
SUMMARY:Professional Activity Day (No School for Students
END:VEVENT
BEGIN:VEVENT
DTSTAMP:20260422T224019Z
UID:e610d213-4684-45d0-92d7-8ca3c349bd7a
DTSTART:20260425T170000
DTEND:20260425T190000
DESCRIPTION:<p>Eat In or Take Out Available</p><p>Small Portion: $5.00</p><
 p>Large Portion: $10.00</p><p>Everyone welcome!</p>
LOCATION:
SUMMARY:Spaghetti Dinner Fundraiser @ Thedford Legacy Centre (Arena) - EVER
 YONE WELCOME!
END:VEVENT
BEGIN:VEVENT
DTSTAMP:20260422T224019Z
UID:51dc752c-37a9-4255-8bed-99efbbdaacc8
DTSTART:20260429T111000
DTEND:20260429T113000
DESCRIPTION:
LOCATION:
SUMMARY:Pizza Lunch
END:VEVENT
BEGIN:VEVENT
DTSTAMP:20260422T224019Z
UID:6d27005e-bc6f-47c6-9dff-603be92f90ec
DTSTART:20260504T080000
DTEND:20260508T090000
DESCRIPTION:
LOCATION:
SUMMARY:Education Week
END:VEVENT
BEGIN:VEVENT
DTSTAMP:20260422T224019Z
UID:4cf7625b-6536-49ef-bf75-97e00ea09799
DTSTART:20260505T080000
DTEND:20260609T090000
DESCRIPTION:
LOCATION:
SUMMARY:EQAO Testing Window
END:VEVENT
BEGIN:VEVENT
DTSTAMP:20260422T224019Z
UID:ec7ca435-68d4-4b14-8c7d-1d9049f2fd74
DTSTART:20260506T111000
DTEND:20260506T113000
DESCRIPTION:
LOCATION:
SUMMARY:Subway Sub Lunch
END:VEVENT
BEGIN:VEVENT
DTSTAMP:20260422T224019Z
UID:20c4a07e-3872-469e-b875-6aab5a9cf646
DTSTART:20260513T111000
DTEND:20260513T113000
DESCRIPTION:
LOCATION:
SUMMARY:Pizza Lunch
END:VEVENT
BEGIN:VEVENT
DTSTAMP:20260422T224019Z
UID:eae2a372-336f-4009-81e0-7ddd316369a2
DTSTART;VALUE=DATE:20260518
DTEND;VALUE=DATE:20260519
DESCRIPTION:
LOCATION:
SUMMARY:Victoria Day Holiday
END:VEVENT
BEGIN:VEVENT
DTSTAMP:20260422T224019Z
UID:be21a338-137a-47e5-a4da-7dd7a04db66b
DTSTART:20260520T080000
DTEND:20260520T090000
DESCRIPTION:
LOCATION:
SUMMARY:One Day Soccer Tournament (With Petrolia League) 
END:VEVENT
BEGIN:VEVENT
DTSTAMP:20260422T224019Z
UID:5cfc01a0-2f82-40a9-9666-505f3adb9107
DTSTART:20260520T111000
DTEND:20260520T113000
DESCRIPTION:
LOCATION:
SUMMARY:Hot Dog Lunch
END:VEVENT
BEGIN:VEVENT
DTSTAMP:20260422T224019Z
UID:d84002d6-445a-488f-b726-37a4d51d11b1
DTSTART:20260527T111000
DTEND:20260527T113000
DESCRIPTION:
LOCATION:
SUMMARY:Pizza Lunch
END:VEVENT
BEGIN:VEVENT
DTSTAMP:20260422T224019Z
UID:06985e8e-f416-4b4c-b977-24e90329bce8
DTSTART:20260527T160000
DTEND:20260527T190000
DESCRIPTION:<p>Registration event\, parents can register via www.lkdsb.net/
 kindergarten.</p><p>Registering your child for Kindergarten is as easy as 
 1\, 2\, 3.</p><p>1. Find your school.</p><p>2. Complete the online registr
 ation form @ www.lkdsb.net/kindergarten in advance.</p><p>3. Come and meet
  our caring staff on Wednesday\, May 27\, 2026\, from 4:00pm – 7:00pm.</
 p><p>Remember to bring:</p><p>• Birth certificate or proof of Canadian C
 itizenship or Residency Status (if appropriate)</p><p>• Proof of residen
 cy (e.g.\, utility or tax bill\, lease/rental agreement\, etc.)</p><p>• 
 Your child</p>
LOCATION:
SUMMARY:Kindergarten Registration and Open House 
END:VEVENT
BEGIN:VEVENT
DTSTAMP:20260422T224019Z
UID:b945cbc1-7172-4f4d-863d-aa8f9fceaebf
DTSTART:20260602T080000
DTEND:20260602T090000
DESCRIPTION:
LOCATION:
SUMMARY:NLEAA Track & Field
END:VEVENT
BEGIN:VEVENT
DTSTAMP:20260422T224019Z
UID:c7e604b6-9027-4201-b526-21a4acf60450
DTSTART:20260603T111000
DTEND:20260603T113000
DESCRIPTION:
LOCATION:
SUMMARY:Subway Sub Lunch
END:VEVENT
BEGIN:VEVENT
DTSTAMP:20260422T224019Z
UID:c78a29aa-ec94-4ffe-9bb7-db39396e8c6c
DTSTART;VALUE=DATE:20260605
DTEND;VALUE=DATE:20260606
DESCRIPTION:
LOCATION:
SUMMARY:Professional Activity Day (No School for Students
END:VEVENT
BEGIN:VEVENT
DTSTAMP:20260422T224019Z
UID:8e509809-ab18-4cdb-867e-5d31dff27eae
DTSTART:20260610T111000
DTEND:20260610T113000
DESCRIPTION:
LOCATION:
SUMMARY:Hot Dog Lunch
END:VEVENT
BEGIN:VEVENT
DTSTAMP:20260422T224019Z
UID:b2e6fe8d-622c-4090-b789-b81c1aad7d1a
DTSTART:20260616T080000
DTEND:20260616T090000
DESCRIPTION:
LOCATION:
SUMMARY:District Track & Field Meet (GLSS)
END:VEVENT
BEGIN:VEVENT
DTSTAMP:20260422T224019Z
UID:991264ee-3a61-4e44-bc06-4448583140dc
DTSTART:20260617T111000
DTEND:20260617T113000
DESCRIPTION:
LOCATION:
SUMMARY:Pizza Lunch
END:VEVENT
BEGIN:VEVENT
DTSTAMP:20260422T224019Z
UID:1cd40ee0-3e60-4996-8465-3d759c984ebb
DTSTART:20260618T170000
DTEND:20260618T200000
DESCRIPTION:
LOCATION:
SUMMARY:Grade 8 Graduation
END:VEVENT
BEGIN:VEVENT
DTSTAMP:20260422T224019Z
UID:e54a97dc-b69a-4956-97a4-f954cada6da5
DTSTART:20260625T080000
DTEND:20260625T090000
DESCRIPTION:
LOCATION:
SUMMARY:Last Day of School - Report Card Sent Home
END:VEVENT
BEGIN:VEVENT
DTSTAMP:20260422T224019Z
UID:8db38750-5add-4a1c-bfb8-f4bfab791e27
DTSTART;VALUE=DATE:20260626
DTEND;VALUE=DATE:20260627
DESCRIPTION:
LOCATION:
SUMMARY:Professional Activity Day (No School for Students
END:VEVENT
END:VCALENDAR
