BEGIN:VCALENDAR
VERSION:2.0
PRODID:icalendar-ruby
CALSCALE:GREGORIAN
BEGIN:VTIMEZONE
TZID:America/New_York
BEGIN:DAYLIGHT
DTSTART:20260308T030000
TZOFFSETFROM:-0500
TZOFFSETTO:-0400
RRULE:FREQ=YEARLY;BYDAY=2SU;BYMONTH=3
TZNAME:EDT
END:DAYLIGHT
BEGIN:STANDARD
DTSTART:20261101T010000
TZOFFSETFROM:-0400
TZOFFSETTO:-0500
RRULE:FREQ=YEARLY;BYDAY=1SU;BYMONTH=11
TZNAME:EST
END:STANDARD
END:VTIMEZONE
BEGIN:VEVENT
DTSTAMP:20260422T191401Z
UID:39586dd5-df8e-4da8-b031-b7bb8b7edafe
DTSTART;VALUE=DATE:20260424
DTEND;VALUE=DATE:20260425
DESCRIPTION:
LOCATION:
SUMMARY:PA Day
END:VEVENT
BEGIN:VEVENT
DTSTAMP:20260422T191401Z
UID:f39cfdfe-4b9f-4de1-9f0b-0160a80bfefc
DTSTART;VALUE=DATE:20260518
DTEND;VALUE=DATE:20260519
DESCRIPTION:
LOCATION:
SUMMARY:Statutory Holiday
END:VEVENT
BEGIN:VEVENT
DTSTAMP:20260422T191401Z
UID:5c58aa1b-6a47-4527-bcb3-b1a3a22307e1
DTSTART;VALUE=DATE:20260605
DTEND;VALUE=DATE:20260606
DESCRIPTION:
LOCATION:
SUMMARY:PA Day
END:VEVENT
BEGIN:VEVENT
DTSTAMP:20260422T191401Z
UID:8b2d5505-e9cb-45ae-aceb-812a2e29e672
DTSTART;VALUE=DATE:20260619
DTEND;VALUE=DATE:20260626
DESCRIPTION:
LOCATION:
SUMMARY:Evaluation Days
END:VEVENT
BEGIN:VEVENT
DTSTAMP:20260422T191401Z
UID:a70f1ec3-86c0-4da4-a47e-3d52d855f826
DTSTART;VALUE=DATE:20260626
DTEND;VALUE=DATE:20260627
DESCRIPTION:
LOCATION:
SUMMARY:PA Day
END:VEVENT
BEGIN:VEVENT
DTSTAMP:20260422T191401Z
UID:135b0d5a-dec1-4674-bd64-d5440a4565f2
DTSTART;VALUE=DATE:20260903
DTEND;VALUE=DATE:20260905
DESCRIPTION:
LOCATION:
SUMMARY:PA Day
END:VEVENT
BEGIN:VEVENT
DTSTAMP:20260422T191401Z
UID:f75ab173-f489-445f-bf10-072dd8bd96fe
DTSTART;VALUE=DATE:20260908
DTEND;VALUE=DATE:20260909
DESCRIPTION:
LOCATION:
SUMMARY:First Day of Classes
END:VEVENT
BEGIN:VEVENT
DTSTAMP:20260422T191401Z
UID:82ea6203-b358-4680-bb75-cd1b753e0111
DTSTART;VALUE=DATE:20261012
DTEND;VALUE=DATE:20261013
DESCRIPTION:
LOCATION:
SUMMARY:Statutory Holiday
END:VEVENT
BEGIN:VEVENT
DTSTAMP:20260422T191401Z
UID:82f21b3c-a9d2-41bc-ad27-0f3d36a0ad00
DTSTART;VALUE=DATE:20261104
DTEND;VALUE=DATE:20261105
DESCRIPTION:
LOCATION:
SUMMARY:Take Our Kids to Work Day
END:VEVENT
BEGIN:VEVENT
DTSTAMP:20260422T191401Z
UID:09dd3346-bf3a-4480-a31b-46ae44295015
DTSTART;VALUE=DATE:20261120
DTEND;VALUE=DATE:20261121
DESCRIPTION:
LOCATION:
SUMMARY:PA Day
END:VEVENT
BEGIN:VEVENT
DTSTAMP:20260422T191401Z
UID:183f6ce0-5f35-4003-8d91-f265dca1fffb
DTSTART;VALUE=DATE:20261221
DTEND;VALUE=DATE:20270102
DESCRIPTION:
LOCATION:
SUMMARY:Board Holiday
END:VEVENT
BEGIN:VEVENT
DTSTAMP:20260422T191401Z
UID:65de93b2-4224-4eb1-bfdc-a1284171e8e8
DTSTART;VALUE=DATE:20270125
DTEND;VALUE=DATE:20270130
DESCRIPTION:
LOCATION:
SUMMARY:Evaluation Days
END:VEVENT
BEGIN:VEVENT
DTSTAMP:20260422T191401Z
UID:d4cd7cdd-a4ca-466f-ad95-62bc431b14bc
DTSTART;VALUE=DATE:20270201
DTEND;VALUE=DATE:20270202
DESCRIPTION:
LOCATION:
SUMMARY:PA Day
END:VEVENT
BEGIN:VEVENT
DTSTAMP:20260422T191401Z
UID:17ef6973-797d-4a88-b329-eed21c8d6401
DTSTART;VALUE=DATE:20270215
DTEND;VALUE=DATE:20270216
DESCRIPTION:
LOCATION:
SUMMARY:Statutory Holiday
END:VEVENT
BEGIN:VEVENT
DTSTAMP:20260422T191401Z
UID:34e74dea-eab6-4150-94bd-183ea6268621
DTSTART;VALUE=DATE:20270315
DTEND;VALUE=DATE:20270320
DESCRIPTION:
LOCATION:
SUMMARY:March Break
END:VEVENT
BEGIN:VEVENT
DTSTAMP:20260422T191401Z
UID:8ef28aab-1a95-49cb-9ab4-54226d3acd87
DTSTART;VALUE=DATE:20270326
DTEND;VALUE=DATE:20270327
DESCRIPTION:
LOCATION:
SUMMARY:Statutory Holiday
END:VEVENT
BEGIN:VEVENT
DTSTAMP:20260422T191401Z
UID:91080b9c-91cd-4555-a756-3e00259c0c1c
DTSTART;VALUE=DATE:20270329
DTEND;VALUE=DATE:20270330
DESCRIPTION:
LOCATION:
SUMMARY:Statutory Holiday
END:VEVENT
BEGIN:VEVENT
DTSTAMP:20260422T191401Z
UID:034ee8ba-0fd1-49a0-a0ba-00f178703bd9
DTSTART;VALUE=DATE:20270430
DTEND;VALUE=DATE:20270501
DESCRIPTION:
LOCATION:
SUMMARY:PA Day
END:VEVENT
BEGIN:VEVENT
DTSTAMP:20260422T191401Z
UID:14cba5d1-b432-43df-9011-0bd0fb810ff6
DTSTART;VALUE=DATE:20270503
DTEND;VALUE=DATE:20270508
DESCRIPTION:
LOCATION:
SUMMARY:Education Week
END:VEVENT
BEGIN:VEVENT
DTSTAMP:20260422T191401Z
UID:fe4b6eab-fee4-4333-aad5-c4fee5fc24f9
DTSTART;VALUE=DATE:20270524
DTEND;VALUE=DATE:20270525
DESCRIPTION:
LOCATION:
SUMMARY:Statutory Holiday
END:VEVENT
BEGIN:VEVENT
DTSTAMP:20260422T191401Z
UID:2eef3080-2a1f-4722-8520-e56e37e223a7
DTSTART;VALUE=DATE:20270604
DTEND;VALUE=DATE:20270605
DESCRIPTION:
LOCATION:
SUMMARY:PA Day
END:VEVENT
BEGIN:VEVENT
DTSTAMP:20260422T191401Z
UID:9c3af379-7cf9-404e-b46f-71bbafd2a738
DTSTART;VALUE=DATE:20270623
DTEND;VALUE=DATE:20270626
DESCRIPTION:
LOCATION:
SUMMARY:Evaluation Days
END:VEVENT
BEGIN:VEVENT
DTSTAMP:20260422T191401Z
UID:2abe217d-255b-4f8e-9f11-c61a89a30def
DTSTART;VALUE=DATE:20270628
DTEND;VALUE=DATE:20270630
DESCRIPTION:
LOCATION:
SUMMARY:Evaluation Days
END:VEVENT
BEGIN:VEVENT
DTSTAMP:20260422T191401Z
UID:20a283ff-3dd7-4230-9c21-06ca07b94fca
DTSTART;VALUE=DATE:20270630
DTEND;VALUE=DATE:20270701
DESCRIPTION:
LOCATION:
SUMMARY:PA Day
END:VEVENT
END:VCALENDAR
