BEGIN:VCALENDAR
VERSION:2.0
PRODID:icalendar-ruby
CALSCALE:GREGORIAN
BEGIN:VTIMEZONE
TZID:America/New_York
BEGIN:DAYLIGHT
DTSTART:20260308T030000
TZOFFSETFROM:-0500
TZOFFSETTO:-0400
RRULE:FREQ=YEARLY;BYDAY=2SU;BYMONTH=3
TZNAME:EDT
END:DAYLIGHT
BEGIN:STANDARD
DTSTART:20261101T010000
TZOFFSETFROM:-0400
TZOFFSETTO:-0500
RRULE:FREQ=YEARLY;BYDAY=1SU;BYMONTH=11
TZNAME:EST
END:STANDARD
END:VTIMEZONE
BEGIN:VEVENT
DTSTAMP:20260423T145933Z
UID:0e25c7d8-0638-4357-909b-43d7693efdfc
DTSTART;VALUE=DATE:20260423
DTEND;VALUE=DATE:20260424
DESCRIPTION:
LOCATION:
SUMMARY:Empowerment Series: Guelph
END:VEVENT
BEGIN:VEVENT
DTSTAMP:20260423T145933Z
UID:7a78b573-b458-4cf9-8206-e26e65beb0e9
DTSTART;VALUE=DATE:20260424
DTEND;VALUE=DATE:20260425
DESCRIPTION:
LOCATION:
SUMMARY:PA Day (Elementary and Secondary)
END:VEVENT
BEGIN:VEVENT
DTSTAMP:20260423T145933Z
UID:803638ce-2aab-442f-8c66-4ec11c0c08b4
DTSTART:20260428T190000
DTEND:20260428T210000
DESCRIPTION:<a href="https://www.ugdsb.ca/page/board-and-committee-meetings
 -2025-2026">https://www.ugdsb.ca/page/board-and-committee-meetings-2025-20
 26</a>
LOCATION:
SUMMARY:Board Meeting
END:VEVENT
BEGIN:VEVENT
DTSTAMP:20260423T145933Z
UID:acd73f5a-e9d9-4881-8c92-e180b029279f
DTSTART;VALUE=DATE:20260501
DTEND;VALUE=DATE:20260502
DESCRIPTION:
LOCATION:
SUMMARY:Principal Appreciation Day
END:VEVENT
BEGIN:VEVENT
DTSTAMP:20260423T145933Z
UID:e9f33394-b2c4-4f5c-9e3b-76f5604b8a81
DTSTART;VALUE=DATE:20260504
DTEND;VALUE=DATE:20260509
DESCRIPTION:
LOCATION:
SUMMARY:Mental Health and Education Week
END:VEVENT
BEGIN:VEVENT
DTSTAMP:20260423T145933Z
UID:08b43219-2036-4c6b-965c-f406d65b23e3
DTSTART;VALUE=DATE:20260505
DTEND;VALUE=DATE:20260506
DESCRIPTION:
LOCATION:
SUMMARY:Empowerment Series: Dufferin
END:VEVENT
BEGIN:VEVENT
DTSTAMP:20260423T145933Z
UID:84df9e90-9145-4256-8ef0-f4680e247c18
DTSTART:20260505T190000
DTEND:20260505T210000
DESCRIPTION:<a href="https://www.ugdsb.ca/page/board-and-committee-meetings
 -2025-2026">https://www.ugdsb.ca/page/board-and-committee-meetings-2025-20
 26</a>
LOCATION:
SUMMARY:Policy and Priorities Committee Meeting
END:VEVENT
BEGIN:VEVENT
DTSTAMP:20260423T145933Z
UID:936ecebe-4dd8-4217-9778-62b4e59d4b09
DTSTART:20260511T170000
DTEND:20260511T183000
DESCRIPTION:
LOCATION:
SUMMARY:Student Senate Meeting
END:VEVENT
BEGIN:VEVENT
DTSTAMP:20260423T145933Z
UID:1bf47fd3-40ae-4557-a118-e1b61ff39ea4
DTSTART:20260512T190000
DTEND:20260512T210000
DESCRIPTION:<a href="https://www.ugdsb.ca/page/board-and-committee-meetings
 -2025-2026">https://www.ugdsb.ca/page/board-and-committee-meetings-2025-20
 26</a>
LOCATION:
SUMMARY:Finance and Facilities Committee Meeting
END:VEVENT
BEGIN:VEVENT
DTSTAMP:20260423T145933Z
UID:5573458d-357a-4fb5-b3c3-2d6f566fb652
DTSTART;VALUE=DATE:20260513
DTEND;VALUE=DATE:20260514
DESCRIPTION:
LOCATION:
SUMMARY:Special Olympics (Guelph and Centre Wellington)
END:VEVENT
BEGIN:VEVENT
DTSTAMP:20260423T145933Z
UID:ba940a31-21ad-45fa-b91b-16fbf46003ac
DTSTART:20260513T190000
DTEND:20260513T210000
DESCRIPTION:<a href="https://www.ugdsb.ca/o/ugdsb/page/special-education-ad
 visory-committee-seac">https://www.ugdsb.ca/o/ugdsb/page/special-education
 -advisory-committee-seac</a>
LOCATION:
SUMMARY:Special Education Advisory Committee Meeting
END:VEVENT
BEGIN:VEVENT
DTSTAMP:20260423T145933Z
UID:0f84967a-d78f-4c68-a800-9ec1d28434c2
DTSTART;VALUE=DATE:20260515
DTEND;VALUE=DATE:20260516
DESCRIPTION:
LOCATION:
SUMMARY:World Education Support Personnel Day
END:VEVENT
BEGIN:VEVENT
DTSTAMP:20260423T145933Z
UID:ac023281-3f32-49a3-bb04-aed1d951cc94
DTSTART;VALUE=DATE:20260518
DTEND;VALUE=DATE:20260519
DESCRIPTION:
LOCATION:
SUMMARY:Victoria Day Holiday (schools and offices closed)
END:VEVENT
BEGIN:VEVENT
DTSTAMP:20260423T145933Z
UID:3eb4bc66-d02f-4fbb-815d-52a6ba5e559f
DTSTART;VALUE=DATE:20260521
DTEND;VALUE=DATE:20260522
DESCRIPTION:
LOCATION:
SUMMARY:Special Olympics (Dufferin and North Wellington)
END:VEVENT
BEGIN:VEVENT
DTSTAMP:20260423T145933Z
UID:1245d2e3-1d01-432c-bf4e-271f16304245
DTSTART:20260525T184500
DTEND:20260525T210000
DESCRIPTION:<a href="https://www.ugdsb.ca/o/pic">https://www.ugdsb.ca/o/pic
 </a>
LOCATION:
SUMMARY:Parent Involvement Committee Meeting
END:VEVENT
BEGIN:VEVENT
DTSTAMP:20260423T145933Z
UID:2e194bc2-c033-485e-849d-730cb9eca6ff
DTSTART:20260526T190000
DTEND:20260526T210000
DESCRIPTION:<a href="https://www.ugdsb.ca/page/board-and-committee-meetings
 -2025-2026">https://www.ugdsb.ca/page/board-and-committee-meetings-2025-20
 26</a>
LOCATION:
SUMMARY:Board Meeting
END:VEVENT
BEGIN:VEVENT
DTSTAMP:20260423T145933Z
UID:faa69e06-4010-4b7d-8a74-baf9708f1f4f
DTSTART;VALUE=DATE:20260601
DTEND;VALUE=DATE:20260701
DESCRIPTION:
LOCATION:
SUMMARY:Pride Month
END:VEVENT
BEGIN:VEVENT
DTSTAMP:20260423T145933Z
UID:7101b7e9-3033-4e0d-889a-2ea9c1aa9740
DTSTART:20260602T170000
DTEND:20260602T180000
DESCRIPTION:<a href="https://www.ugdsb.ca/page/board-and-committee-meetings
 -2025-2026">https://www.ugdsb.ca/page/board-and-committee-meetings-2025-20
 26</a>
LOCATION:
SUMMARY:Governance Committee Meeting
END:VEVENT
BEGIN:VEVENT
DTSTAMP:20260423T145933Z
UID:4a959001-b76b-4461-be54-6f5b6ee896ec
DTSTART:20260602T190000
DTEND:20260602T210000
DESCRIPTION:<a href="https://www.ugdsb.ca/page/board-and-committee-meetings
 -2025-2026">https://www.ugdsb.ca/page/board-and-committee-meetings-2025-20
 26</a>
LOCATION:
SUMMARY:Policy and Priorities Committee Meeting
END:VEVENT
BEGIN:VEVENT
DTSTAMP:20260423T145933Z
UID:e4c53ac5-7408-440d-9587-eedc2c4c1794
DTSTART;VALUE=DATE:20260605
DTEND;VALUE=DATE:20260606
DESCRIPTION:
LOCATION:
SUMMARY:PA Day (Elementary)
END:VEVENT
BEGIN:VEVENT
DTSTAMP:20260423T145933Z
UID:3be1c3ea-b0f4-452a-9d0e-51ca7d1e57eb
DTSTART:20260608T170000
DTEND:20260608T183000
DESCRIPTION:
LOCATION:
SUMMARY:Student Senate Meeting
END:VEVENT
BEGIN:VEVENT
DTSTAMP:20260423T145933Z
UID:cb97a2f4-a8a0-4e1d-b871-bcc7174d5171
DTSTART:20260610T190000
DTEND:20260610T210000
DESCRIPTION:<a href="https://www.ugdsb.ca/o/ugdsb/page/special-education-ad
 visory-committee-seac">https://www.ugdsb.ca/o/ugdsb/page/special-education
 -advisory-committee-seac</a>
LOCATION:
SUMMARY:Special Education Advisory Committee Meeting
END:VEVENT
BEGIN:VEVENT
DTSTAMP:20260423T145933Z
UID:ee04d44a-f305-410f-abe9-5085199665f8
DTSTART:20260616T170000
DTEND:20260616T180000
DESCRIPTION:<a href="https://www.ugdsb.ca/page/board-and-committee-meetings
 -2025-2026">https://www.ugdsb.ca/page/board-and-committee-meetings-2025-20
 26</a>
LOCATION:
SUMMARY:Audit Committee Meeting
END:VEVENT
BEGIN:VEVENT
DTSTAMP:20260423T145933Z
UID:0ec67a11-7b11-4a74-9b32-4dc2f6ade9c8
DTSTART:20260616T190000
DTEND:20260616T210000
DESCRIPTION:<a href="https://www.ugdsb.ca/page/board-and-committee-meetings
 -2025-2026">https://www.ugdsb.ca/page/board-and-committee-meetings-2025-20
 26</a>
LOCATION:
SUMMARY:Finance and Facilities Committee Meeting
END:VEVENT
BEGIN:VEVENT
DTSTAMP:20260423T145933Z
UID:6a6122fc-8d5c-4cdf-8486-29310525fcd1
DTSTART;VALUE=DATE:20260621
DTEND;VALUE=DATE:20260622
DESCRIPTION:
LOCATION:
SUMMARY:National Indigenous Peoples Day
END:VEVENT
BEGIN:VEVENT
DTSTAMP:20260423T145933Z
UID:225d95c2-766c-4744-8b0d-4aef36ca225d
DTSTART:20260623T190000
DTEND:20260623T210000
DESCRIPTION:<a href="https://www.ugdsb.ca/page/board-and-committee-meetings
 -2025-2026">https://www.ugdsb.ca/page/board-and-committee-meetings-2025-20
 26</a>
LOCATION:
SUMMARY:Board Meeting
END:VEVENT
BEGIN:VEVENT
DTSTAMP:20260423T145933Z
UID:c4f87a53-3bc9-4d10-aac2-7dc89a2a2171
DTSTART;VALUE=DATE:20260625
DTEND;VALUE=DATE:20260626
DESCRIPTION:
LOCATION:
SUMMARY:PA Day (Secondary)
END:VEVENT
BEGIN:VEVENT
DTSTAMP:20260423T145933Z
UID:585a1388-d3d2-4a33-9d47-442b5e45e77d
DTSTART;VALUE=DATE:20260626
DTEND;VALUE=DATE:20260627
DESCRIPTION:
LOCATION:
SUMMARY:PA Day (Elementary and Secondary)
END:VEVENT
BEGIN:VEVENT
DTSTAMP:20260423T145933Z
UID:2e79f383-71e7-416a-925f-c13d3a70b47f
DTSTART;VALUE=DATE:20260730
DTEND;VALUE=DATE:20260731
DESCRIPTION:
LOCATION:
SUMMARY:Al-Hijra New Year
END:VEVENT
BEGIN:VEVENT
DTSTAMP:20260423T145933Z
UID:44f56098-fb3d-452e-acf8-dc9e58cb2d03
DTSTART;VALUE=DATE:20260801
DTEND;VALUE=DATE:20260802
DESCRIPTION:
LOCATION:
SUMMARY:Civic Holiday Canada
END:VEVENT
BEGIN:VEVENT
DTSTAMP:20260423T145933Z
UID:726c7473-8c86-4aaf-bdb9-507ae78ad549
DTSTART;VALUE=DATE:20260801
DTEND;VALUE=DATE:20260802
DESCRIPTION:
LOCATION:
SUMMARY:Lughnassadh/Lammas
END:VEVENT
BEGIN:VEVENT
DTSTAMP:20260423T145933Z
UID:09ede097-c263-420c-a9a6-c51666eccd13
DTSTART;VALUE=DATE:20260808
DTEND;VALUE=DATE:20260809
DESCRIPTION:
LOCATION:
SUMMARY:Ashura
END:VEVENT
BEGIN:VEVENT
DTSTAMP:20260423T145933Z
UID:d32c364d-20ed-4126-a0ec-a9e159a9cc79
DTSTART;VALUE=DATE:20260811
DTEND;VALUE=DATE:20260812
DESCRIPTION:
LOCATION:
SUMMARY:Raksha Bandhan
END:VEVENT
BEGIN:VEVENT
DTSTAMP:20260423T145933Z
UID:8c2033ab-cc2c-47ea-a3f6-2a8427da2f0e
DTSTART;VALUE=DATE:20261001
DTEND;VALUE=DATE:20261101
DESCRIPTION:
LOCATION:
SUMMARY:Child Abuse Prevention Month
END:VEVENT
BEGIN:VEVENT
DTSTAMP:20260423T145933Z
UID:17860ea3-3f75-4d97-aecc-b53e5cc2fc27
DTSTART;VALUE=DATE:20261005
DTEND;VALUE=DATE:20261006
DESCRIPTION:
LOCATION:
SUMMARY:World Teachers' Day
END:VEVENT
BEGIN:VEVENT
DTSTAMP:20260423T145933Z
UID:b4a6d38b-6de4-4f33-b9ba-8ad33443c5ec
DTSTART;VALUE=DATE:20261108
DTEND;VALUE=DATE:20261109
DESCRIPTION:<span>Each year\, Indigenous Veterans Day is recognized on Nove
 mber 8.</span>
LOCATION:
SUMMARY:Indigenous Veterans Day
END:VEVENT
BEGIN:VEVENT
DTSTAMP:20260423T145933Z
UID:2d325a55-f2a5-41aa-a1f5-f801aa8ce908
DTSTART;VALUE=DATE:20261111
DTEND;VALUE=DATE:20261112
DESCRIPTION:All board and school flags (where able) will be flown at half m
 ast
LOCATION:
SUMMARY:Remembrance Day
END:VEVENT
END:VCALENDAR
